BEGIN:VCALENDAR
VERSION:2.0
PRODID:-//Universidad Nacional del Comahue - ECPv6.11.2//NONSGML v1.0//EN
CALSCALE:GREGORIAN
METHOD:PUBLISH
X-ORIGINAL-URL:https://uncoma.edu.ar
X-WR-CALDESC:Eventos para Universidad Nacional del Comahue
REFRESH-INTERVAL;VALUE=DURATION:PT1H
X-Robots-Tag:noindex
X-PUBLISHED-TTL:PT1H
BEGIN:VTIMEZONE
TZID:America/Argentina/Buenos_Aires
BEGIN:STANDARD
TZOFFSETFROM:-0300
TZOFFSETTO:-0300
TZNAME:-03
DTSTART:20210101T000000
END:STANDARD
END:VTIMEZONE
BEGIN:VEVENT
DTSTART;VALUE=DATE:20210520
DTEND;VALUE=DATE:20210521
DTSTAMP:20260421T211522
CREATED:20210426T223049Z
LAST-MODIFIED:20210426T223049Z
UID:10000199-1621468800-1621555199@uncoma.edu.ar
SUMMARY:Programa de Actualización de Posgrado: “DEBATES ACTUALES EN TORNO A LA ESTÉTICA\, LA PEDAGOGÍA Y LA EPISTEMOLOGÍA DESDE LA PERSPECTIVA DE LA FILOSOFÍA DE LA LIBERACIÓN” (2da. Edición)
DESCRIPTION:La Dirección de Posgrado de la Facultad de Ciencias de la Educación informa la realización del Programa de Actualización de Posgrado:\n“DEBATES ACTUALES EN TORNO A LA ESTÉTICA\, LA PEDAGOGÍA Y LA EPISTEMOLOGÍA DESDE LA PERSPECTIVA DE LA FILOSOFÍA DE LA LIBERACIÓN”\n(2da. Edición)\n\nCoordinadora Académica: Esp. Nadia Heredia\nEste programa comprende tres seminarios de 40 hs. reloj de duración cada uno (cursado jueves\, viernes y sábado). Certificación final con trabajo evaluativo aprobado de 120 hs. reloj.\n\nFecha de inicio: 20/05/21\nModalidad virtual\n\nSeminario Nº 1: ESTÉTICA DE LA LIBERACIÓN\nProfesor responsable: Dr. Alan Quezada Figueroa (Univ. De Guanajuato-INBAL).\n20\, 21 y 22 de mayo\, de 8 a 12 y de 16 a 20 hs.\n\nSeminario Nº 2: ÉTICA Y PEDAGOGÍA DE LA LIBERACIÓN\nProfesora responsable: Esp. Nadia Heredia (UNCo)\n27\, 28 y 29 de mayo\, de 8 a 12 y de 16 a 20 hs.\n\nSeminario Nº 3: EPISTEMOLOGÍA DE LA LIBERACIÓN\nProfesor responsable: Lic. Héctor Federico Roda (UNJu)\n3\, 4 y 5 de junio\, de 8 a 12 y de 16 a 20 hs.\n\nDestinatarias/os: El Programa está dirigido a profesionales de la Educación\, Ciencias Sociales y Humanidades.\nRequisito: Título universitario o terciario de 4 años de duración como mínimo.\nAquellas/os interesadas/os que cuenten con título de pregrado podrán inscribirse y se les certificará como “perfeccionamiento”.\nCupo máximo: 60 participantes.\nAranceles totales:\n-Trabajadoras/es UNCo $7000.-\n-Egresadas/os UNCo $8000.-\n-Otras/os $9000.-\nArancel por seminario (en caso de no cursar la totalidad): $3000.-\n\nLas/os interesadas/os deberán confirmar la vacante hasta el viernes 14/05/21\, siguiendo estos pasos:\n1) Preinscribirse en el siguiente formulario\n2) Abonar anticipo de $3000 (pesos tres mil) a través de transferencia bancaria:\nBanco CREDICOOP\nDenominación de la cuenta: “UNC FAC. CS. EDUC. POSTGRADO”\nCuenta Corriente Nº: 132-010192/1\nCBU: 1910132555013201019214\nCUIT: 30-58676219-9\n\n3) Enviar copia del título de grado y comprobante de pago a: posgradofce@yahoo.com.ar\n4) El monto restante se cancelará en 2 cuotas –junio y julio/21- según detalle:\n-Trabajadoras/es UNCo: 2 cuotas de $2000 c/u.-\n-Egresadas/os UNCo: 2 cuotas de $2500 c/u.-\n-Otras/os: 2 cuotas de $3000 c/u.-\n\nPara mayor información\, comunicarse a: posgradofce@yahoo.com.ar
URL:https://uncoma.edu.ar/evento/programa-de-actualizacion-de-posgrado-debates-actuales-en-torno-a-la-estetica-la-pedagogia-y-la-epistemologia-desde-la-perspectiva-de-la-filosofia-de-la-liberacion-2da-edicion-2/
CATEGORIES:Programa
END:VEVENT
BEGIN:VEVENT
DTSTART;VALUE=DATE:20210520
DTEND;VALUE=DATE:20210521
DTSTAMP:20260421T211522
CREATED:20210426T223049Z
LAST-MODIFIED:20210426T223049Z
UID:10000204-1621468800-1621555199@uncoma.edu.ar
SUMMARY:Programa de Actualización de Posgrado: “DEBATES ACTUALES EN TORNO A LA ESTÉTICA\, LA PEDAGOGÍA Y LA EPISTEMOLOGÍA DESDE LA PERSPECTIVA DE LA FILOSOFÍA DE LA LIBERACIÓN” (2da. Edición)
DESCRIPTION:La Dirección de Posgrado de la Facultad de Ciencias de la Educación informa la realización del Programa de Actualización de Posgrado:\n“DEBATES ACTUALES EN TORNO A LA ESTÉTICA\, LA PEDAGOGÍA Y LA EPISTEMOLOGÍA DESDE LA PERSPECTIVA DE LA FILOSOFÍA DE LA LIBERACIÓN”\n(2da. Edición)\n\nCoordinadora Académica: Esp. Nadia Heredia\nEste programa comprende tres seminarios de 40 hs. reloj de duración cada uno (cursado jueves\, viernes y sábado). Certificación final con trabajo evaluativo aprobado de 120 hs. reloj.\n\nFecha de inicio: 20/05/21\nModalidad virtual\n\nSeminario Nº 1: ESTÉTICA DE LA LIBERACIÓN\nProfesor responsable: Dr. Alan Quezada Figueroa (Univ. De Guanajuato-INBAL).\n20\, 21 y 22 de mayo\, de 8 a 12 y de 16 a 20 hs.\n\nSeminario Nº 2: ÉTICA Y PEDAGOGÍA DE LA LIBERACIÓN\nProfesora responsable: Esp. Nadia Heredia (UNCo)\n27\, 28 y 29 de mayo\, de 8 a 12 y de 16 a 20 hs.\n\nSeminario Nº 3: EPISTEMOLOGÍA DE LA LIBERACIÓN\nProfesor responsable: Lic. Héctor Federico Roda (UNJu)\n3\, 4 y 5 de junio\, de 8 a 12 y de 16 a 20 hs.\n\nDestinatarias/os: El Programa está dirigido a profesionales de la Educación\, Ciencias Sociales y Humanidades.\nRequisito: Título universitario o terciario de 4 años de duración como mínimo.\nAquellas/os interesadas/os que cuenten con título de pregrado podrán inscribirse y se les certificará como “perfeccionamiento”.\nCupo máximo: 60 participantes.\nAranceles totales:\n-Trabajadoras/es UNCo $7000.-\n-Egresadas/os UNCo $8000.-\n-Otras/os $9000.-\nArancel por seminario (en caso de no cursar la totalidad): $3000.-\n\nLas/os interesadas/os deberán confirmar la vacante hasta el viernes 14/05/21\, siguiendo estos pasos:\n1) Preinscribirse en el siguiente formulario\n2) Abonar anticipo de $3000 (pesos tres mil) a través de transferencia bancaria:\nBanco CREDICOOP\nDenominación de la cuenta: “UNC FAC. CS. EDUC. POSTGRADO”\nCuenta Corriente Nº: 132-010192/1\nCBU: 1910132555013201019214\nCUIT: 30-58676219-9\n\n3) Enviar copia del título de grado y comprobante de pago a: posgradofce@yahoo.com.ar\n4) El monto restante se cancelará en 2 cuotas –junio y julio/21- según detalle:\n-Trabajadoras/es UNCo: 2 cuotas de $2000 c/u.-\n-Egresadas/os UNCo: 2 cuotas de $2500 c/u.-\n-Otras/os: 2 cuotas de $3000 c/u.-\n\nPara mayor información\, comunicarse a: posgradofce@yahoo.com.ar
URL:https://uncoma.edu.ar/evento/programa-de-actualizacion-de-posgrado-debates-actuales-en-torno-a-la-estetica-la-pedagogia-y-la-epistemologia-desde-la-perspectiva-de-la-filosofia-de-la-liberacion-2da-edicion-3/
CATEGORIES:Programa
END:VEVENT
BEGIN:VEVENT
DTSTART;VALUE=DATE:20210520
DTEND;VALUE=DATE:20210521
DTSTAMP:20260421T211522
CREATED:20210426T223049Z
LAST-MODIFIED:20210426T223049Z
UID:10000192-1621468800-1621555199@uncoma.edu.ar
SUMMARY:Programa de Actualización de Posgrado: “DEBATES ACTUALES EN TORNO A LA ESTÉTICA\, LA PEDAGOGÍA Y LA EPISTEMOLOGÍA DESDE LA PERSPECTIVA DE LA FILOSOFÍA DE LA LIBERACIÓN” (2da. Edición)
DESCRIPTION:La Dirección de Posgrado de la Facultad de Ciencias de la Educación informa la realización del Programa de Actualización de Posgrado:\n“DEBATES ACTUALES EN TORNO A LA ESTÉTICA\, LA PEDAGOGÍA Y LA EPISTEMOLOGÍA DESDE LA PERSPECTIVA DE LA FILOSOFÍA DE LA LIBERACIÓN”\n(2da. Edición)\n\nCoordinadora Académica: Esp. Nadia Heredia\nEste programa comprende tres seminarios de 40 hs. reloj de duración cada uno (cursado jueves\, viernes y sábado). Certificación final con trabajo evaluativo aprobado de 120 hs. reloj.\n\nFecha de inicio: 20/05/21\nModalidad virtual\n\nSeminario Nº 1: ESTÉTICA DE LA LIBERACIÓN\nProfesor responsable: Dr. Alan Quezada Figueroa (Univ. De Guanajuato-INBAL).\n20\, 21 y 22 de mayo\, de 8 a 12 y de 16 a 20 hs.\n\nSeminario Nº 2: ÉTICA Y PEDAGOGÍA DE LA LIBERACIÓN\nProfesora responsable: Esp. Nadia Heredia (UNCo)\n27\, 28 y 29 de mayo\, de 8 a 12 y de 16 a 20 hs.\n\nSeminario Nº 3: EPISTEMOLOGÍA DE LA LIBERACIÓN\nProfesor responsable: Lic. Héctor Federico Roda (UNJu)\n3\, 4 y 5 de junio\, de 8 a 12 y de 16 a 20 hs.\n\nDestinatarias/os: El Programa está dirigido a profesionales de la Educación\, Ciencias Sociales y Humanidades.\nRequisito: Título universitario o terciario de 4 años de duración como mínimo.\nAquellas/os interesadas/os que cuenten con título de pregrado podrán inscribirse y se les certificará como “perfeccionamiento”.\nCupo máximo: 60 participantes.\nAranceles totales:\n-Trabajadoras/es UNCo $7000.-\n-Egresadas/os UNCo $8000.-\n-Otras/os $9000.-\nArancel por seminario (en caso de no cursar la totalidad): $3000.-\n\nLas/os interesadas/os deberán confirmar la vacante hasta el viernes 14/05/21\, siguiendo estos pasos:\n1) Preinscribirse en el siguiente formulario\n2) Abonar anticipo de $3000 (pesos tres mil) a través de transferencia bancaria:\nBanco CREDICOOP\nDenominación de la cuenta: “UNC FAC. CS. EDUC. POSTGRADO”\nCuenta Corriente Nº: 132-010192/1\nCBU: 1910132555013201019214\nCUIT: 30-58676219-9\n\n3) Enviar copia del título de grado y comprobante de pago a: posgradofce@yahoo.com.ar\n4) El monto restante se cancelará en 2 cuotas –junio y julio/21- según detalle:\n-Trabajadoras/es UNCo: 2 cuotas de $2000 c/u.-\n-Egresadas/os UNCo: 2 cuotas de $2500 c/u.-\n-Otras/os: 2 cuotas de $3000 c/u.-\n\nPara mayor información\, comunicarse a: posgradofce@yahoo.com.ar
URL:https://uncoma.edu.ar/evento/programa-de-actualizacion-de-posgrado-debates-actuales-en-torno-a-la-estetica-la-pedagogia-y-la-epistemologia-desde-la-perspectiva-de-la-filosofia-de-la-liberacion-2da-edicion/
CATEGORIES:Programa
END:VEVENT
END:VCALENDAR