BEGIN:VCALENDAR
VERSION:2.0
PRODID:-//Universidad Nacional del Comahue - ECPv6.11.2//NONSGML v1.0//EN
CALSCALE:GREGORIAN
METHOD:PUBLISH
X-WR-CALNAME:Universidad Nacional del Comahue
X-ORIGINAL-URL:https://uncoma.edu.ar
X-WR-CALDESC:Eventos para Universidad Nacional del Comahue
REFRESH-INTERVAL;VALUE=DURATION:PT1H
X-Robots-Tag:noindex
X-PUBLISHED-TTL:PT1H
BEGIN:VTIMEZONE
TZID:America/Sao_Paulo
BEGIN:STANDARD
TZOFFSETFROM:-0300
TZOFFSETTO:-0300
TZNAME:-03
DTSTART:20230101T000000
END:STANDARD
END:VTIMEZONE
BEGIN:VEVENT
DTSTART;TZID=America/Sao_Paulo:20231129T080000
DTEND;TZID=America/Sao_Paulo:20231229T170000
DTSTAMP:20260421T205458
CREATED:20231124T122231Z
LAST-MODIFIED:20231124T122231Z
UID:18388-1701244800-1703869200@uncoma.edu.ar
SUMMARY:Seminario Doctoral en la Facultad de Ciencias de la Educación
DESCRIPTION:La Dirección de Posgrado de la Facultad de Cienicas de la Educación de la Univeresidad Nacional del Comahue informa la realización del Seminario Doctoral “Aportes de la teoría socio-histórica para el análisis de prácticas educativas inclusivas” que se dictará en el marco del Doctorado en Educación. \nProfesora a cargo: Dra. Beatriz Celada (UNCo) \nProfesora invitada: Mg. Silvia Dubrovsky (UNCo) \nModalidad: Presencial física \nCarga horaria (c/ aprobación de trabajo final): 40 hs. reloj. \nFecha de cursado: 4\, 5 y 6 de diciembre de 2023. \nHorarios: Lunes de 14 a 19:30\, Martes de 9 a 18:30 \, Miércoles de 9 a 15 . \nPara inscribirse completar este formulario \n  \n 
URL:https://uncoma.edu.ar/evento/seminario-doctoral-en-la-facultad-de-ciencias-de-la-educacion/
CATEGORIES:Seminario
ATTACH;FMTTYPE=image/jpeg:https://uncoma.edu.ar/wp-content/uploads/2023/11/Afiche-seminario-Celada-Dubrovsky.jpeg
END:VEVENT
END:VCALENDAR