BEGIN:VCALENDAR
VERSION:2.0
PRODID:-//Universidad Nacional del Comahue - ECPv6.11.2//NONSGML v1.0//EN
CALSCALE:GREGORIAN
METHOD:PUBLISH
X-WR-CALNAME:Universidad Nacional del Comahue
X-ORIGINAL-URL:https://uncoma.edu.ar
X-WR-CALDESC:Eventos para Universidad Nacional del Comahue
REFRESH-INTERVAL;VALUE=DURATION:PT1H
X-Robots-Tag:noindex
X-PUBLISHED-TTL:PT1H
BEGIN:VTIMEZONE
TZID:America/Sao_Paulo
BEGIN:STANDARD
TZOFFSETFROM:-0300
TZOFFSETTO:-0300
TZNAME:-03
DTSTART:20230101T000000
END:STANDARD
END:VTIMEZONE
BEGIN:VEVENT
DTSTART;TZID=America/Sao_Paulo:20231021T080000
DTEND;TZID=America/Sao_Paulo:20231021T170000
DTSTAMP:20260421T230242
CREATED:20231012T130035Z
LAST-MODIFIED:20231012T130035Z
UID:22801-1697875200-1697907600@uncoma.edu.ar
SUMMARY: Se viene una nueva Edición de la Expo Agraria en Villa Regina
DESCRIPTION:El sábado 21 de octubre\, de 16 a 19 horas se va a poder conocer el trabajo realizado durante el año. \nLa actividad es organizada por la Escuela Agraria Alto Valle Este y cuenta con el auspicio de la Facultad de Ciencias y Tecnología de los Alimentos de la Universidad Nacional del Comahue. El encuentro es abierto a la comunidad y se podrá participar de las actividades con las que vienen trabajando los y las estudiantes durante el año de ambas instituciones con recorridos explicativos por los sectores de producción y espacio de emprendedores de la localidad. \nLa expo se desarrollará en la sede la Escuela Agraria Alto Valle ubicada en la dirección de Juan XXIII S/N Chacra 96\, Villa Regina.
URL:https://uncoma.edu.ar/evento/se-viene-una-nueva-edicion-de-la-expo-agraria-en-villa-regina-3/
CATEGORIES:Encuentro
ATTACH;FMTTYPE=image/jpeg:https://uncoma.edu.ar/wp-content/uploads/2023/10/385485398_17993384501197318_6433608994889954040_n.jpg
END:VEVENT
END:VCALENDAR