BEGIN:VCALENDAR
VERSION:2.0
PRODID:-//Universidad Nacional del Comahue - ECPv6.11.2//NONSGML v1.0//EN
CALSCALE:GREGORIAN
METHOD:PUBLISH
X-WR-CALNAME:Universidad Nacional del Comahue
X-ORIGINAL-URL:https://uncoma.edu.ar
X-WR-CALDESC:Eventos para Universidad Nacional del Comahue
REFRESH-INTERVAL;VALUE=DURATION:PT1H
X-Robots-Tag:noindex
X-PUBLISHED-TTL:PT1H
BEGIN:VTIMEZONE
TZID:America/Sao_Paulo
BEGIN:STANDARD
TZOFFSETFROM:-0300
TZOFFSETTO:-0300
TZNAME:-03
DTSTART:20230101T000000
END:STANDARD
END:VTIMEZONE
BEGIN:VEVENT
DTSTART;TZID=America/Sao_Paulo:20231211T080000
DTEND;TZID=America/Sao_Paulo:20231211T170000
DTSTAMP:20260421T184725
CREATED:20231207T130443Z
LAST-MODIFIED:20231207T130443Z
UID:18708-1702281600-1702314000@uncoma.edu.ar
SUMMARY:Reconocimiento a Noemi Labrune
DESCRIPTION:La Orquesta Infanto Juvenil de Cuerdas de la UNCo fue convocada a participar del Reconocimiento a Noemí Labrune. La formación musical se presentará el lunes 11 de diciembre en el Centro Cultural Gregorio Álvarez de Plaza Huincul en el marco del festejo “El regalo de los Chicos”. \nEl público puede disfrutar de la actividad en forma libre y gratuita.
URL:https://uncoma.edu.ar/evento/reconocimiento-a-noemi-labrune/
CATEGORIES:Evento
ATTACH;FMTTYPE=image/jpeg:https://uncoma.edu.ar/wp-content/uploads/2023/12/ee50b131-76a1-458b-b897-1569d53e53ca.jpeg
END:VEVENT
END:VCALENDAR