BEGIN:VCALENDAR
VERSION:2.0
PRODID:-//Universidad Nacional del Comahue - ECPv6.11.2//NONSGML v1.0//EN
CALSCALE:GREGORIAN
METHOD:PUBLISH
X-WR-CALNAME:Universidad Nacional del Comahue
X-ORIGINAL-URL:https://uncoma.edu.ar
X-WR-CALDESC:Eventos para Universidad Nacional del Comahue
REFRESH-INTERVAL;VALUE=DURATION:PT1H
X-Robots-Tag:noindex
X-PUBLISHED-TTL:PT1H
BEGIN:VTIMEZONE
TZID:America/Argentina/Buenos_Aires
BEGIN:STANDARD
TZOFFSETFROM:-0300
TZOFFSETTO:-0300
TZNAME:-03
DTSTART:20250101T000000
END:STANDARD
END:VTIMEZONE
BEGIN:VEVENT
DTSTART;TZID=America/Argentina/Buenos_Aires:20251117T090000
DTEND;TZID=America/Argentina/Buenos_Aires:20251117T170000
DTSTAMP:20260422T153850
CREATED:20251109T154957Z
LAST-MODIFIED:20251109T155030Z
UID:34534-1763370000-1763398800@uncoma.edu.ar
SUMMARY:“Nunca más silencio”: la UNCo homenajea a Vera Jarach con una muestra fotográfica que interpela la memoria y el presente
DESCRIPTION:Desde el viernes 7 de noviembre\, el Centro Regional Universitario Bariloche (CRUB) de la Universidad Nacional del Comahue (UNCo) alberga la muestra fotográfica Nunca más silencio\, un homenaje profundo y conmovedor a Vera Vigevani de Jarach\, Madre de Plaza de Mayo – Línea Fundadora\, periodista\, militante por los Derechos Humanos y figura clave en la construcción de memoria colectiva en Argentina. \nLa exposición\, ubicada en la Pared Blanca del hall central del CRUB (Quintral 1250\, Barrio Jardín Botánico)\, estará abierta hasta el lunes 17 de noviembre. A través de imágenes que retratan a Vera como madre\, militante y caminante de montaña\, la muestra invita a recorrer su vida marcada por el dolor\, la resistencia y el compromiso con la verdad. \nUn árbol para la memoria: el gesto que florece \nDurante la inauguración\, se realizó la plantación de un árbol en flor\, símbolo que para Vera representaba el encuentro con su hija Franca\, desaparecida en 1976. Este acto\, cargado de sentido\, acompaña la muestra como gesto de continuidad\, crecimiento y esperanza. En palabras de Vera: “Mi testimonio es como un mensaje que puede dar una abuela: Sigan siempre adelante. Sueñen\, porque no es malo soñar. Proyecten\, porque es bueno proyectar. Únanse\, porque es bueno estar unidos en todas las cosas…” \nVera en Bariloche: presencia\, palabra y legado \nBariloche fue un lugar entrañable para Vera Jarach. Junto a su esposo Jorge y su hija Franca\, eligieron esta ciudad para construir una casa y compartir inviernos y veranos entre montañas y refugios. En 2016\, Vera regresó presencialmente al CRUB para participar de la Carrera de Miguel\, organizada en homenaje al atleta desaparecido Miguel Sánchez. En esa ocasión\, compartió actividades con Elvira Sánchez\, hermana de Miguel\, y visitó escuelas locales para contar su historia. \nDesde entonces\, su presencia se mantuvo viva en cada edición de la Carrera de Miguel y en las conmemoraciones del 24 de marzo\, a través de encuentros virtuales con estudiantes universitarios. Su testimonio\, siempre amoroso y firme\, se convirtió en una herramienta pedagógica y ética para pensar el pasado y actuar sobre el presente. \nUna vida entre palabras\, luchas y memoria \nVera fue periodista durante cuatro décadas en la agencia italiana ANSA\, y autora de libros como Tantas voces una historia\, Il silenzio infranto y Los chicos del exilio. Participó en películas que abordaron la dictadura militar argentina y fue parte activa de espacios como Memoria Abierta\, el Espacio Memoria y Derechos Humanos – exESMA\, y la Fundación Memoria Histórica y Social Argentina. También impulsó homenajes en el Colegio Nacional Buenos Aires y fue una de las fundadoras del Parque de la Memoria\, construido junto al Río de la Plata para recordar a quienes no tienen tumba. \nSu historia personal\, marcada por el exilio familiar durante el nazismo y la desaparición de su hija en la última dictadura argentina\, se convirtió en una voz lúcida y valiente que denunció las repeticiones de la historia y exigió justicia sin odio. \nLa UNCo como espacio de memoria activa \nLa muestra Nunca más silencio reafirma el compromiso de la Universidad Nacional del Comahue con la defensa de los Derechos Humanos\, la construcción de memoria y la formación de una ciudadanía crítica y solidaria. El CRUB Bariloche se convierte\, una vez más\, en escenario de encuentro entre generaciones\, donde la historia se narra desde el afecto\, la resistencia y la pedagogía del testimonio. \nVera Jarach nos deja su voz como legado. La UNCo la escucha\, la abraza y la proyecta hacia el futuro. Porque el silencio nunca más será opción. \n 
URL:https://uncoma.edu.ar/evento/nunca-mas-silencio-la-unco-homenajea-a-vera-jarach-con-una-muestra-fotografica-que-interpela-la-memoria-y-el-presente/
CATEGORIES:Presentación
ATTACH;FMTTYPE=image/jpeg:https://uncoma.edu.ar/wp-content/uploads/2025/11/vera-a1.jpg
END:VEVENT
END:VCALENDAR