BEGIN:VCALENDAR
VERSION:2.0
PRODID:-//Universidad Nacional del Comahue - ECPv6.11.2//NONSGML v1.0//EN
CALSCALE:GREGORIAN
METHOD:PUBLISH
X-WR-CALNAME:Universidad Nacional del Comahue
X-ORIGINAL-URL:https://uncoma.edu.ar
X-WR-CALDESC:Eventos para Universidad Nacional del Comahue
REFRESH-INTERVAL;VALUE=DURATION:PT1H
X-Robots-Tag:noindex
X-PUBLISHED-TTL:PT1H
BEGIN:VTIMEZONE
TZID:America/Argentina/Buenos_Aires
BEGIN:STANDARD
TZOFFSETFROM:-0300
TZOFFSETTO:-0300
TZNAME:-03
DTSTART:20250101T000000
END:STANDARD
END:VTIMEZONE
BEGIN:VEVENT
DTSTART;TZID=America/Argentina/Buenos_Aires:20251215T080000
DTEND;TZID=America/Argentina/Buenos_Aires:20251215T130000
DTSTAMP:20260419T193221
CREATED:20251211T162645Z
LAST-MODIFIED:20251211T162757Z
UID:35057-1765785600-1765803600@uncoma.edu.ar
SUMMARY:Nuevo encuentro por el Plan Estratégico Institucional
DESCRIPTION:La Secretaría de Planeamiento y Desarrollo Institucional invita a participar del debate sobre el  Eje estratégico: Gestión institucional del Plan Estratégico Institucional (PEI) 2025-2031. \nEl PEI\, un instrumento fundamental de la gestión universitaria\, busca construir colectivamente y traducir temas prioritarios en objetivos y metas concretas\, y orientar con certeza los recursos institucionales. \nLa presente convocatoria es para el lunes 15/12\, 10 h. Se debatirá sobre el Eje estratégico “Gestión institucional”\, sus líneas prioritarias y objetivos. \nDatos de conexión: \nDuración estimada: 2 horas\nSala de reuniones: ID: 827 0012 4178\, código de acceso: plan\, o el link \nMateriales: acceder desde este enlace. \nEn la web https://pei.uncoma.edu.ar/ encuentran información adicional sobre el PEI que puede resultar de interés. \nTu participación es indispensable. \nAgradecemos de antemano su compromiso y participación en esta tarea estratégica para el futuro de nuestra Universidad.
URL:https://uncoma.edu.ar/evento/nuevo-encuentro-por-el-plan-estrategico-institucional/
CATEGORIES:Charla
ATTACH;FMTTYPE=image/jpeg:https://uncoma.edu.ar/wp-content/uploads/2025/12/WhatsApp-Image-2025-12-11-at-10.49.57.jpeg
END:VEVENT
END:VCALENDAR