BEGIN:VCALENDAR
VERSION:2.0
PRODID:-//Universidad Nacional del Comahue - ECPv6.11.2//NONSGML v1.0//EN
CALSCALE:GREGORIAN
METHOD:PUBLISH
X-WR-CALNAME:Universidad Nacional del Comahue
X-ORIGINAL-URL:https://uncoma.edu.ar
X-WR-CALDESC:Eventos para Universidad Nacional del Comahue
REFRESH-INTERVAL;VALUE=DURATION:PT1H
X-Robots-Tag:noindex
X-PUBLISHED-TTL:PT1H
BEGIN:VTIMEZONE
TZID:America/Argentina/Buenos_Aires
BEGIN:STANDARD
TZOFFSETFROM:-0300
TZOFFSETTO:-0300
TZNAME:-03
DTSTART:20250101T000000
END:STANDARD
END:VTIMEZONE
BEGIN:VEVENT
DTSTART;TZID=America/Argentina/Buenos_Aires:20251209T143000
DTEND;TZID=America/Argentina/Buenos_Aires:20251209T170000
DTSTAMP:20260422T133029
CREATED:20251208T115707Z
LAST-MODIFIED:20251208T115739Z
UID:34981-1765290600-1765299600@uncoma.edu.ar
SUMMARY:Memoria y Territorio en Pantalla: La UNCo invita a la proyección de Kukañwe
DESCRIPTION:La Universidad Nacional del Comahue (UNCo)\, a través del Proyecto de Investigación en Didáctica Crítica e Interculturalidad del CRUB (PI B257)\, organiza una actividad académica y cultural de gran relevancia: la proyección del documental Kukañwe y un diálogo abierto con su realizador\, Felipe Montalva Peroni. \nFecha y hora: martes 9 de diciembre\, 14:30 hs Lugar: Aula Magna del CRUB\, Quintral 1250 – Bariloche Entrada libre y gratuita \nUn registro histórico que interpela el presente \nKukañwe es un documental de archivo que rescata imágenes filmadas en 1991 sobre la situación de la comunidad mapuche pewenche Meliñir\, en Quinquén (Lonquimay\, Araucanía\, Chile). En aquel momento\, la comunidad enfrentaba la amenaza de desalojo por parte de una empresa agrícola. \nLas entrevistas realizadas a kuifikeche —personas mayores de la comunidad\, algunas ya fallecidas— constituyen un testimonio invaluable. Sus palabras reflejan la defensa del territorio y la identidad cultural\, con resonancias que siguen vigentes a ambos lados de la cordillera. \nUna obra con raíces universitarias \nLa grabación original fue realizada por estudiantes de Periodismo de la Universidad de Playa Ancha (UPLA) de Valparaíso y un equipo audiovisual de la Universidad de la Frontera (UFRO) de Temuco. Tres décadas más tarde\, el material fue editado y lanzado en 2022 por los realizadores Jaime Maldonado Lobos y Felipe Montalva Peroni\, dando forma a un documental de 30 minutos que combina memoria\, resistencia y reflexión crítica. \nEspacio de encuentro y reflexión en la UNCo \nLa actividad no se limita a la proyección: el público podrá participar de una conversación con Felipe Montalva Peroni\, quien compartirá detalles sobre el proceso de recuperación y edición del material\, así como su mirada sobre la vigencia de las luchas territoriales mapuche. Este encuentro busca fortalecer el diálogo intercultural y promover una didáctica crítica que vincule la investigación académica con las realidades sociales y culturales de la región. \nInvitación abierta a la comunidad \nLa UNCo reafirma su compromiso con la difusión de producciones que rescatan la memoria colectiva y fomentan la reflexión sobre los desafíos contemporáneos. La proyección de Kukañwe constituye una oportunidad para estudiantes\, docentes\, investigadores y vecinos de Bariloche de acercarse a un relato que trasciende fronteras y tiempos. La invitación está abierta a toda la comunidad\, con entrada libre y gratuita\, en un espacio pensado para el intercambio de saberes y experiencias. \n 
URL:https://uncoma.edu.ar/evento/memoria-y-territorio-en-pantalla-la-unco-invita-a-la-proyeccion-de-kukanwe/
CATEGORIES:Encuentro
ATTACH;FMTTYPE=image/jpeg:https://uncoma.edu.ar/wp-content/uploads/2025/12/WhatsApp-Image-2025-12-01-at-09.12.44.jpeg
END:VEVENT
END:VCALENDAR