BEGIN:VCALENDAR
VERSION:2.0
PRODID:-//Universidad Nacional del Comahue - ECPv6.11.2//NONSGML v1.0//EN
CALSCALE:GREGORIAN
METHOD:PUBLISH
X-WR-CALNAME:Universidad Nacional del Comahue
X-ORIGINAL-URL:https://uncoma.edu.ar
X-WR-CALDESC:Eventos para Universidad Nacional del Comahue
REFRESH-INTERVAL;VALUE=DURATION:PT1H
X-Robots-Tag:noindex
X-PUBLISHED-TTL:PT1H
BEGIN:VTIMEZONE
TZID:America/Argentina/Buenos_Aires
BEGIN:STANDARD
TZOFFSETFROM:-0300
TZOFFSETTO:-0300
TZNAME:-03
DTSTART:20250101T000000
END:STANDARD
END:VTIMEZONE
BEGIN:VEVENT
DTSTART;TZID=America/Argentina/Buenos_Aires:20251111T153000
DTEND;TZID=America/Argentina/Buenos_Aires:20251111T170000
DTSTAMP:20260422T153850
CREATED:20251107T091517Z
LAST-MODIFIED:20251107T091517Z
UID:34498-1762875000-1762880400@uncoma.edu.ar
SUMMARY:La UNCo visibiliza la violencia ginecobstétrica: proyección del documental Si querés gritar\, ¡gritá! en FADECS
DESCRIPTION:En el marco del ciclo de charlas “Bienestar en tiempos de cursada: habitar el cuerpo\, cuidar la mente”\, la Facultad de Derecho y Ciencias Sociales (FADECS) de la Universidad Nacional del Comahue (UNCo) invita a la comunidad universitaria y al público general a participar de la proyección del corto documental Si querés gritar\, ¡gritá!. La actividad se realizará el martes 11 de noviembre a las 16 horas en el Aula Magna de la facultad\, con entrada libre y gratuita. \nOrganizada por la Secretaría de Bienestar Estudiantil\, esta propuesta busca abrir un espacio de reflexión colectiva sobre la violencia ginecobstétrica\, una problemática que afecta a mujeres y personas gestantes en distintos ámbitos del sistema de salud. El documental recoge los testimonios de cinco mujeres de la región que atravesaron situaciones de vulneración durante sus procesos de atención médica\, y suma además la mirada de profesionales de la salud que aportan una perspectiva crítica y comprometida. \nTestimonios que incomodan\, historias que transforman \nSi querés gritar\, ¡gritá! no es solo una pieza audiovisual: es una herramienta de denuncia\, memoria y sensibilización. A través de relatos íntimos y potentes\, el corto visibiliza prácticas naturalizadas que vulneran derechos\, silencian cuerpos y reproducen violencias estructurales en el ámbito ginecológico y obstétrico. La proyección estará acompañada por representantes de la Campaña Nacional contra la Violencia Ginecobstétrica\, quienes compartirán experiencias\, materiales y estrategias de acción colectiva. \nLa actividad se inscribe en una línea de trabajo que la UNCo viene desarrollando en torno a la salud integral\, los derechos sexuales y reproductivos\, y la formación universitaria con perspectiva de género. Desde FADECS se destaca la importancia de generar espacios donde el bienestar estudiantil no se limite a lo académico\, sino que incluya el cuidado del cuerpo\, la salud emocional y el reconocimiento de las violencias que atraviesan la vida cotidiana. \n 
URL:https://uncoma.edu.ar/evento/la-unco-visibiliza-la-violencia-ginecobstetrica-proyeccion-del-documental-si-queres-gritar-grita-en-fadecs/
CATEGORIES:Charla
ATTACH;FMTTYPE=image/jpeg:https://uncoma.edu.ar/wp-content/uploads/2025/11/577808583_853687784008067_8330102036316512786_n.jpg
END:VEVENT
END:VCALENDAR