BEGIN:VCALENDAR
VERSION:2.0
PRODID:-//Universidad Nacional del Comahue - ECPv6.11.2//NONSGML v1.0//EN
CALSCALE:GREGORIAN
METHOD:PUBLISH
X-WR-CALNAME:Universidad Nacional del Comahue
X-ORIGINAL-URL:https://uncoma.edu.ar
X-WR-CALDESC:Eventos para Universidad Nacional del Comahue
REFRESH-INTERVAL;VALUE=DURATION:PT1H
X-Robots-Tag:noindex
X-PUBLISHED-TTL:PT1H
BEGIN:VTIMEZONE
TZID:America/Argentina/Buenos_Aires
BEGIN:STANDARD
TZOFFSETFROM:-0300
TZOFFSETTO:-0300
TZNAME:-03
DTSTART:20250101T000000
END:STANDARD
END:VTIMEZONE
BEGIN:VEVENT
DTSTART;TZID=America/Argentina/Buenos_Aires:20251203T130000
DTEND;TZID=America/Argentina/Buenos_Aires:20251203T200000
DTSTAMP:20260422T133103
CREATED:20251126T095517Z
LAST-MODIFIED:20251126T095517Z
UID:34763-1764766800-1764792000@uncoma.edu.ar
SUMMARY:La UNCo invita a descubrir la matemática como experiencia cultural en Bariloche
DESCRIPTION:La Universidad Nacional del Comahue (UNCo) será protagonista de una jornada única de divulgación científica y participación ciudadana. En el marco del Encuentro Conjunto de la Real Sociedad Matemática Española (RSME) y la Unión Matemática Argentina (UMA)\, que se desarrollará en Bariloche entre el 1 y el 5 de diciembre\, se realizará el Festival Matemático abierto a la comunidad\, un espacio pensado para acercar la matemática a públicos diversos mediante propuestas lúdicas\, recreativas y académicas. \nEl miércoles 3 de diciembre\, el Centro Regional Universitario Bariloche (CRUB) será sede de múltiples actividades que buscan tender puentes entre la ciencia y la sociedad\, reafirmando el compromiso de la UNCo con la extensión universitaria y la formación integral. \nAniMATE Comahue: un proyecto que transforma la matemática en juego \nEntre las 13:00 y las 18:00 horas\, el gimnasio del CRUB (Los Andes y Osorno) recibirá a AniMATE Comahue\, un proyecto de extensión del Departamento de Matemática de la Facultad de Economía y Administración de la UNCo. \nCreado en 2010 con el apoyo de la Facultad de Ingeniería Química de la Universidad Nacional del Litoral\, AniMATE Comahue propone un recorrido distinto: aprender matemática a través de juegos\, acertijos\, trucos de magia y experimentos físicos. Su objetivo es potenciar el pensamiento lógico-deductivo\, la creatividad\, las habilidades comunicacionales y el trabajo colaborativo\, especialmente en estudiantes de nivel medio y en institutos de formación docente. \nLa propuesta se ha consolidado como un espacio integrador que invita a experimentar la matemática desde la curiosidad y la participación activa\, alejándose de los formatos tradicionales y acercando la disciplina a la vida cotidiana. \nMagia y números primos: ciencia con encanto \nLa jornada continuará con un espacio de magia del CRUB\, entre las 16:00 y las 18:00 horas\, donde la matemática se entrelazará con el asombro y la creatividad. \nLuego\, a las 19:00 horas\, en el Aula Magna del CRUB (Quintral 1250)\, el investigador Juan Sabia (UBA-CONICET) ofrecerá la charla titulada “Una charla (más) sobre números primos”. Inspirada en la célebre espiral de Ulam\, descubierta en 1963\, la conferencia explorará cómo los números primos tienden a alinearse en patrones sorprendentes y qué preguntas y conjeturas han surgido a partir de este hallazgo. La propuesta busca compartir resultados y problemas abiertos\, pero también despertar nuevas ideas en quienes se animen a pensar más allá de lo evidente. \n  \nFinalmente\, a las 20:00 horas\, el Centro Cultural Casa Macacha (Pasaje Gutiérrez 890) será escenario de la charla de Teo López Puccio (Universidad de San Andrés)\, que sumará otra perspectiva al diálogo entre matemática y cultura. \n  \nCiencia\, comunidad y compromiso universitario \nEl Festival Matemático es una invitación abierta a toda la comunidad de Bariloche y la región. Con actividades gratuitas y accesibles\, la UNCo reafirma su misión de difundir el conocimiento científico\, promover la inclusión y generar espacios de encuentro entre especialistas\, estudiantes y público general. \nLa matemática\, presentada aquí como juego\, magia y reflexión\, se convierte en una herramienta para fortalecer el pensamiento crítico y la participación ciudadana. En tiempos donde la ciencia enfrenta el desafío de acercarse a la sociedad\, la UNCo demuestra que la universidad pública puede ser motor de creatividad\, diálogo y transformación cultural. \n  \n  \n 
URL:https://uncoma.edu.ar/evento/la-unco-invita-a-descubrir-la-matematica-como-experiencia-cultural-en-bariloche/
CATEGORIES:Charla
ATTACH;FMTTYPE=image/webp:https://uncoma.edu.ar/wp-content/uploads/2025/11/unco-festival-matematica-08jpg.webp
END:VEVENT
END:VCALENDAR