BEGIN:VCALENDAR
VERSION:2.0
PRODID:-//Universidad Nacional del Comahue - ECPv6.11.2//NONSGML v1.0//EN
CALSCALE:GREGORIAN
METHOD:PUBLISH
X-WR-CALNAME:Universidad Nacional del Comahue
X-ORIGINAL-URL:https://uncoma.edu.ar
X-WR-CALDESC:Eventos para Universidad Nacional del Comahue
REFRESH-INTERVAL;VALUE=DURATION:PT1H
X-Robots-Tag:noindex
X-PUBLISHED-TTL:PT1H
BEGIN:VTIMEZONE
TZID:America/Argentina/Buenos_Aires
BEGIN:STANDARD
TZOFFSETFROM:-0300
TZOFFSETTO:-0300
TZNAME:-03
DTSTART:20250101T000000
END:STANDARD
END:VTIMEZONE
BEGIN:VEVENT
DTSTART;TZID=America/Argentina/Buenos_Aires:20251210T100000
DTEND;TZID=America/Argentina/Buenos_Aires:20251210T123000
DTSTAMP:20260422T033310
CREATED:20251209T110452Z
LAST-MODIFIED:20251209T110540Z
UID:34991-1765360800-1765369800@uncoma.edu.ar
SUMMARY:La UNCo impulsa la promoción del envejecimiento activo con capacitaciones en Roca
DESCRIPTION:La Universidad Nacional del Comahue (UNCo)\, a través de la Facultad de Derecho y Ciencias Sociales (FADECS)\, reafirma su compromiso con la comunidad al reprogramar una serie de capacitaciones destinadas a personas mayores. La iniciativa se desarrolla en el marco del convenio firmado con el Municipio de Roca y busca fortalecer la construcción de espacios de participación\, reflexión y aprendizaje vinculados al envejecimiento poblacional. \nFormación para una sociedad inclusiva \nLas actividades se enmarcan en el programa “Promoción del envejecimiento activo y generación de espacios”\, cuyo propósito es brindar herramientas que favorezcan la integración social y el ejercicio pleno de derechos en la etapa de la adultez mayor. La propuesta está dirigida a personas mayores de 60 años y a profesionales que trabajan en el área\, con el objetivo de estimular redes comunitarias y promover prácticas que mejoren la calidad de vida. \nCapacitaciones programadas \nEl ciclo contempla dos instancias de formación: \n“Trabajando sobre nuestros derechos” \n“Memoria y mitos” \nLa primera jornada confirmada será el miércoles 10 de diciembre a las 10 horas\, en el Salón Principal del Concejo Deliberante de Roca (Villegas y Avenida Roca). En esta ocasión\, se abordará la temática “Memoria y mitos”\, a cargo de la Magíster Cecilia Beitia\, docente de la FADECS-UNCo. \nAcceso libre y gratuito \nLa propuesta se caracteriza por su apertura a toda la comunidad: la asistencia no requiere inscripción previa y es completamente gratuita. De este modo\, se garantiza la participación amplia y diversa\, favoreciendo la construcción de un espacio inclusivo y democrático. \nUn aporte académico al desarrollo social \nLa UNCo\, en articulación con el Municipio de Roca\, busca que estas capacitaciones se conviertan en un punto de encuentro para reflexionar sobre el envejecimiento como fenómeno social y cultural. La iniciativa apunta a derribar prejuicios\, fortalecer la memoria colectiva y promover el reconocimiento de los derechos de las personas mayores. \nPara consultas o información adicional\, los interesados pueden comunicarse al 2984 223533.
URL:https://uncoma.edu.ar/evento/la-unco-impulsa-la-promocion-del-envejecimiento-activo-con-capacitaciones-en-roca/
CATEGORIES:Charla
ATTACH;FMTTYPE=image/jpeg:https://uncoma.edu.ar/wp-content/uploads/2025/12/594036704_876658128377699_6652963046116698339_n.jpg
END:VEVENT
END:VCALENDAR