BEGIN:VCALENDAR
VERSION:2.0
PRODID:-//Universidad Nacional del Comahue - ECPv6.11.2//NONSGML v1.0//EN
CALSCALE:GREGORIAN
METHOD:PUBLISH
X-WR-CALNAME:Universidad Nacional del Comahue
X-ORIGINAL-URL:https://uncoma.edu.ar
X-WR-CALDESC:Eventos para Universidad Nacional del Comahue
REFRESH-INTERVAL;VALUE=DURATION:PT1H
X-Robots-Tag:noindex
X-PUBLISHED-TTL:PT1H
BEGIN:VTIMEZONE
TZID:America/Argentina/Buenos_Aires
BEGIN:STANDARD
TZOFFSETFROM:-0300
TZOFFSETTO:-0300
TZNAME:-03
DTSTART:20250101T000000
END:STANDARD
END:VTIMEZONE
BEGIN:VEVENT
DTSTART;TZID=America/Argentina/Buenos_Aires:20251205T100000
DTEND;TZID=America/Argentina/Buenos_Aires:20251205T123000
DTSTAMP:20260422T011159
CREATED:20251201T143219Z
LAST-MODIFIED:20251201T143512Z
UID:34862-1764928800-1764937800@uncoma.edu.ar
SUMMARY:La UNCo abre sus puertas con una visita guiada accesible en su campus central
DESCRIPTION:El próximo viernes 5 de diciembre\, a las 10 horas\, la Universidad Nacional del Comahue (UNCo) llevará adelante una actividad inédita en su sede central de Neuquén Capital: la Visita Guiada Accesible\, organizada por la Comisión Universitaria sobre Accesibilidad al Medio Físico y Social junto con la Dirección de Orientación e Ingreso. \nhttps://uncoma.edu.ar/wp-content/uploads/2025/12/AQMtMlgzYE8PNfadNrZw3ibJ6DKrruwCvP2uCgoaKplf0byXYiMdRiesh124T0RpqNrEpbhcXaQJ0g6WvWvVro_D0P6nOtfbAJ_YTFfE_j4tWw.mp4\nLa propuesta se enmarca en las acciones vinculadas al Día Internacional de los Derechos de las Personas con Discapacidad y busca garantizar que el acceso a la vida universitaria sea inclusivo y equitativo. Se trata de la primera experiencia de guiado accesible en el campus\, abierta a toda la comunidad\, pero especialmente pensada para personas en situación de discapacidad que deseen conocer las instalaciones\, informarse sobre la oferta académica y descubrir los sistemas de apoyo disponibles en la institución. \nDurante el recorrido\, los participantes podrán familiarizarse con los espacios de estudio y encuentro\, recibir información sobre programas de accesibilidad académica y conocer los dispositivos que la UNCo ha implementado para acompañar a estudiantes con distintas necesidades. La actividad también está dirigida a jóvenes que estén finalizando o hayan concluido sus estudios secundarios y que evalúan continuar su formación en la universidad. \nLa iniciativa refleja el compromiso de la Universidad Nacional del Comahue con la inclusión y la igualdad de oportunidades\, entendiendo que la accesibilidad no es solo una condición física\, sino también un derecho que garantiza la participación plena en la vida universitaria. Al abrir sus puertas de manera accesible\, la UNCo reafirma su rol como institución pública que promueve la diversidad y la integración en todos sus ámbitos. \nEste primer guiado accesible marca un paso significativo hacia la construcción de una universidad más abierta y consciente de las necesidades de su comunidad. Con acciones como esta\, la UNCo fortalece su misión de ser un espacio de formación\, encuentro y transformación social\, donde cada persona pueda desarrollar su proyecto académico y personal sin barreras. \nFormulario de inscripción: https://docs.google.com/forms/d/e/1FAIpQLSekaSofNDd5HPtexfRTojGGr6Dy4G-P-rTLKWdTzefBeLA85w/viewform?usp=header \nContacto: formacionaccesibilidad@gmail.com / tel: 449-0300 (int 406)
URL:https://uncoma.edu.ar/evento/la-unco-abre-sus-puertas-con-una-visita-guiada-accesible-en-su-campus-central/
CATEGORIES:Charla
ATTACH;FMTTYPE=image/jpeg:https://uncoma.edu.ar/wp-content/uploads/2025/12/9b02259c-0a71-406d-b743-04b071d1a5fd.jpg
END:VEVENT
END:VCALENDAR