BEGIN:VCALENDAR
VERSION:2.0
PRODID:-//Universidad Nacional del Comahue - ECPv6.11.2//NONSGML v1.0//EN
CALSCALE:GREGORIAN
METHOD:PUBLISH
X-WR-CALNAME:Universidad Nacional del Comahue
X-ORIGINAL-URL:https://uncoma.edu.ar
X-WR-CALDESC:Eventos para Universidad Nacional del Comahue
REFRESH-INTERVAL;VALUE=DURATION:PT1H
X-Robots-Tag:noindex
X-PUBLISHED-TTL:PT1H
BEGIN:VTIMEZONE
TZID:America/Argentina/Buenos_Aires
BEGIN:STANDARD
TZOFFSETFROM:-0300
TZOFFSETTO:-0300
TZNAME:-03
DTSTART:20250101T000000
END:STANDARD
END:VTIMEZONE
BEGIN:VEVENT
DTSTART;TZID=America/Argentina/Buenos_Aires:20251118T080000
DTEND;TZID=America/Argentina/Buenos_Aires:20251120T130000
DTSTAMP:20260422T141014
CREATED:20251118T143116Z
LAST-MODIFIED:20251118T143327Z
UID:34693-1763452800-1763643600@uncoma.edu.ar
SUMMARY:Cierra la convocatoria PILA Virtual 2026: movilidad académica internacional sin fronteras
DESCRIPTION:La Universidad Nacional del Comahue (UNCo) informa el cierre de la Convocatoria PILA Virtual 2026\, una iniciativa que permitirá a sus estudiantes de grado acceder a experiencias académicas internacionales desde la comodidad de sus hogares. Se trata de una propuesta que se desarrollará durante el primer semestre de 2026 y que busca fortalecer la integración universitaria en América Latina mediante la movilidad virtual\, garantizando reconocimiento académico y acompañamiento institucional en todo el proceso. \nUna oportunidad de internacionalización desde la UNCo \nEl Programa de Intercambio Académico Latinoamericano (PILA) en su modalidad virtual constituye una alternativa innovadora para que los y las estudiantes de la UNCo puedan cursar asignaturas en universidades de distintos países de la región\, sin necesidad de trasladarse físicamente. Esta modalidad elimina barreras geográficas y económicas\, ya que no implica costos de matrícula y asegura la validación de los estudios realizados en el marco del intercambio. \nLa propuesta se inscribe en la política de internacionalización de la educación superior que impulsa la UNCo\, reafirmando su compromiso con la formación integral y la construcción de redes académicas regionales. \nRequisitos para participar \nLa convocatoria está dirigida a estudiantes regulares de carreras de grado de la UNCo que tengan entre el 40% y el 70% de su plan de estudios aprobado. Además\, deberán presentar la documentación completa por correo electrónico antes de la fecha límite establecida. \nEl plazo de postulación se extiende hasta el 20 de noviembre a las 13:00 horas\, momento en el cual se cerrará la recepción de solicitudes. \nAcompañamiento y beneficios \nLa UNCo garantiza un acompañamiento institucional durante todo el proceso de movilidad virtual\, brindando orientación y apoyo a quienes resulten seleccionados. De este modo\, se asegura que la experiencia académica internacional se desarrolle en un marco de calidad\, inclusión y reconocimiento formal. \nEntre los beneficios más destacados se encuentran: \nAcceso a universidades latinoamericanas de prestigio. \nReconocimiento académico de las asignaturas cursadas. \nEliminación de costos de matrícula. \nIntegración en comunidades de aprendizaje diversas y multiculturales. \nInternacionalización con identidad regional \nLa Convocatoria PILA Virtual 2026 reafirma el papel de la Universidad Nacional del Comahue como institución pública comprometida con la democratización del conocimiento y la construcción de vínculos académicos en América Latina. Al ofrecer esta oportunidad\, la UNCo fortalece la formación de sus estudiantes y contribuye a la consolidación de una ciudadanía universitaria regional\, abierta a la cooperación y al intercambio cultural. \nLa movilidad virtual se convierte así en un puente hacia nuevas experiencias\, donde el aula se expande más allá de las fronteras y la UNCo se proyecta como protagonista en la internacionalización de la educación superior. \nPor consultas comunicarse al email: movilidadout.internacionales@central.uncoma.edu.ar \nPara más información  https://internacionales.uncoma.edu.ar/movilidad-out/ \n 
URL:https://uncoma.edu.ar/evento/la-unco-abre-la-convocatoria-pila-virtual-2026-movilidad-academica-internacional-sin-fronteras/
ATTACH;FMTTYPE=image/jpeg:https://uncoma.edu.ar/wp-content/uploads/2025/11/584533872_862699013106944_8941116247269673683_n.jpg
END:VEVENT
END:VCALENDAR