BEGIN:VCALENDAR
VERSION:2.0
PRODID:-//Universidad Nacional del Comahue - ECPv6.11.2//NONSGML v1.0//EN
CALSCALE:GREGORIAN
METHOD:PUBLISH
X-WR-CALNAME:Universidad Nacional del Comahue
X-ORIGINAL-URL:https://uncoma.edu.ar
X-WR-CALDESC:Eventos para Universidad Nacional del Comahue
REFRESH-INTERVAL;VALUE=DURATION:PT1H
X-Robots-Tag:noindex
X-PUBLISHED-TTL:PT1H
BEGIN:VTIMEZONE
TZID:America/Argentina/Buenos_Aires
BEGIN:STANDARD
TZOFFSETFROM:-0300
TZOFFSETTO:-0300
TZNAME:-03
DTSTART:20260101T000000
END:STANDARD
END:VTIMEZONE
BEGIN:VEVENT
DTSTART;TZID=America/Argentina/Buenos_Aires:20260430T100000
DTEND;TZID=America/Argentina/Buenos_Aires:20260430T113000
DTSTAMP:20260422T182625
CREATED:20260422T154118Z
LAST-MODIFIED:20260422T164830Z
UID:36502-1777543200-1777548600@uncoma.edu.ar
SUMMARY:La UNCo abre el debate sobre violencia sexista y dilemas digitales
DESCRIPTION:La Universidad Nacional del Comahue (UNCo) reafirma su compromiso con la formación crítica y la inclusión al anunciar una nueva instancia de capacitación destinada a tutores pares. El próximo jueves 30 de abril\, de 10 a 11 horas\, se desarrollará la charla abierta “Hablemos de violencia sexista: nuevos dilemas digitales”\, a cargo de la especialista Andrea Diez\, en modalidad virtual y con inscripción gratuita. \nLa actividad es organizada por la Comisión Universitaria sobre Accesibilidad al Medio Físico y Social junto al Área de Intervenciones Institucionales\, en el marco de las políticas de formación que la UNCo impulsa para fortalecer la convivencia democrática y el respeto a los derechos humanos. La propuesta busca generar un espacio de reflexión sobre cómo las violencias sexistas se reproducen y transforman en entornos digitales\, afectando tanto a estudiantes como a docentes y a la sociedad en su conjunto. \nEl auge de las redes sociales y las plataformas digitales ha multiplicado las formas de interacción\, pero también ha abierto la puerta a nuevas modalidades de violencia simbólica y sexista. La charla se propone analizar estos dilemas desde una perspectiva académica\, aportando herramientas para reconocer\, prevenir y enfrentar situaciones que vulneran la integridad de las personas. En este sentido\, la UNCo se posiciona como institución que no solo forma profesionales\, sino que también promueve debates urgentes para la vida social contemporánea. \nFormación de tutores pares \nLa capacitación está especialmente dirigida a tutores pares\, quienes cumplen un rol clave en el acompañamiento estudiantil. Al brindarles herramientas conceptuales y prácticas\, la universidad fortalece su capacidad de contención y prevención en contextos de vulnerabilidad. La figura del tutor se convierte así en un puente entre la comunidad estudiantil y las políticas institucionales de cuidado. \nFORMULARIO DE INSCRIPCIÓN: https://forms.gle/vjJySxdfwunDxok39 \nCONSULTAS: formacionaccesibilidad@gmail.com
URL:https://uncoma.edu.ar/evento/la-unco-abre-el-debate-sobre-violencia-sexista-y-dilemas-digitales/
ATTACH;FMTTYPE=image/jpeg:https://uncoma.edu.ar/wp-content/uploads/2026/04/678395735_1536152681850696_4707793730667183197_n.jpg
END:VEVENT
END:VCALENDAR