BEGIN:VCALENDAR
VERSION:2.0
PRODID:-//Universidad Nacional del Comahue - ECPv6.11.2//NONSGML v1.0//EN
CALSCALE:GREGORIAN
METHOD:PUBLISH
X-WR-CALNAME:Universidad Nacional del Comahue
X-ORIGINAL-URL:https://uncoma.edu.ar
X-WR-CALDESC:Eventos para Universidad Nacional del Comahue
REFRESH-INTERVAL;VALUE=DURATION:PT1H
X-Robots-Tag:noindex
X-PUBLISHED-TTL:PT1H
BEGIN:VTIMEZONE
TZID:America/Argentina/Buenos_Aires
BEGIN:STANDARD
TZOFFSETFROM:-0300
TZOFFSETTO:-0300
TZNAME:-03
DTSTART:20260101T000000
END:STANDARD
END:VTIMEZONE
BEGIN:VEVENT
DTSTART;TZID=America/Argentina/Buenos_Aires:20260225T080000
DTEND;TZID=America/Argentina/Buenos_Aires:20260225T170000
DTSTAMP:20260421T211530
CREATED:20260225T144957Z
LAST-MODIFIED:20260225T144957Z
UID:35647-1772006400-1772038800@uncoma.edu.ar
SUMMARY:FeriCRUB: la UNCo abre sus puertas a la creatividad y la economía local
DESCRIPTION:El Centro Regional Universitario Bariloche (CRUB) de la Universidad Nacional del Comahue (UNCo) se prepara para una nueva edición de FeriCRUB\, un espacio pensado para visibilizar emprendimientos de la comunidad universitaria y fortalecer la economía regional. La feria tendrá lugar el martes 10 de marzo\, de 10 a 17 horas\, en el Hall del CRUB. \nFeriCRUB nació como una iniciativa de la propia comunidad universitaria\, con el objetivo de fomentar el intercambio y generar oportunidades de ingresos. La propuesta está abierta a estudiantes\, docentes\, nodocentes\, investigadores/as\, jubilados/as y graduados/as que cuenten con emprendimientos vinculados a bienes\, servicios o manifestaciones artísticas. \nEste espacio no solo busca dar visibilidad a proyectos locales\, sino también promover la interacción entre distintos sectores de la universidad\, generando redes de colaboración y apoyo mutuo. \nLas propuestas se reciben hasta el 6 de marzo. Quienes deseen participar pueden enviar sus consultas y solicitudes de inscripción al correo electrónico habilitado por la organización. La feria se presenta como una oportunidad para mostrar productos\, compartir experiencias y fortalecer la identidad emprendedora de la comunidad universitaria. \n  \nLa UNCo y su compromiso con el territorio \nLa realización de FeriCRUB reafirma el rol de la Universidad Nacional del Comahue como institución pública que acompaña las iniciativas de su comunidad y promueve la economía social. A través de este tipo de actividades\, la UNCo se convierte en un puente entre la producción cultural y económica de sus integrantes y la sociedad en general. \nLa nueva edición de FeriCRUB promete ser un encuentro enriquecedor\, donde la creatividad\, la innovación y el compromiso social se conjugan en un mismo espacio. El CRUB será\, una vez más\, escenario de la diversidad de proyectos que nacen y crecen en la universidad pública\, fortaleciendo el vínculo entre conocimiento\, comunidad y desarrollo regional. \nPre-inscribite completando este formulario \nhttps://docs.google.com/forms/d/1gMFVh5S4vK_PM1Gg_ONhoy4u9-RFwiG8Y4dSCJmIMn4/viewform?fbclid=IwY2xjawQL6LRleHRuA2FlbQIxMABicmlkETJTbzdWTlNtOVphdmphR1hTc3J0YwZhcHBfaWQQMjIyMDM5MTc4ODIwMDg5MgABHkwuSE9yGvnw6OByJUQUb3ufO28sq5Uoebmd81C9Qy3Qels2piWp_dQtJxSL_aem_RYRnUk9CvBkEzdY09mmHDg&edit_requested=true \n  \n 
URL:https://uncoma.edu.ar/evento/fericrub-la-unco-abre-sus-puertas-a-la-creatividad-y-la-economia-local/
CATEGORIES:Encuentro
ATTACH;FMTTYPE=image/jpeg:https://uncoma.edu.ar/wp-content/uploads/2026/02/641462455_1491415372994201_1705963311738396860_n.jpg
END:VEVENT
END:VCALENDAR