BEGIN:VCALENDAR
VERSION:2.0
PRODID:-//Universidad Nacional del Comahue - ECPv6.11.2//NONSGML v1.0//EN
CALSCALE:GREGORIAN
METHOD:PUBLISH
X-WR-CALNAME:Universidad Nacional del Comahue
X-ORIGINAL-URL:https://uncoma.edu.ar
X-WR-CALDESC:Eventos para Universidad Nacional del Comahue
REFRESH-INTERVAL;VALUE=DURATION:PT1H
X-Robots-Tag:noindex
X-PUBLISHED-TTL:PT1H
BEGIN:VTIMEZONE
TZID:America/Argentina/Buenos_Aires
BEGIN:STANDARD
TZOFFSETFROM:-0300
TZOFFSETTO:-0300
TZNAME:-03
DTSTART:20250101T000000
END:STANDARD
END:VTIMEZONE
BEGIN:VEVENT
DTSTART;TZID=America/Argentina/Buenos_Aires:20251110T170000
DTEND;TZID=America/Argentina/Buenos_Aires:20251110T200000
DTSTAMP:20260422T141017
CREATED:20251027T183535Z
LAST-MODIFIED:20251027T183535Z
UID:34294-1762794000-1762804800@uncoma.edu.ar
SUMMARY:Explorar el terreno profesional: Convocan a un taller clave para estudiantes de Geología
DESCRIPTION:La Facultad de Ingeniería de la Universidad Nacional del Comahue invita a participar del Taller Conversatorio sobre Práctica Profesional Geológica\, una instancia formativa pensada para estudiantes que proyectan realizar su práctica en el año 2026. El encuentro se llevará a cabo el lunes 10 de noviembre a las 17 horas en el Edificio Dr. Valles\, sede del Departamento de Geología\, y estará coordinado por la Dra. Telma Musso y el Lic. Juan Mendiberri\, docentes con amplia trayectoria en formación profesional y vinculación con el campo laboral. \nEste espacio académico busca orientar\, informar y acompañar a quienes se preparan para transitar una etapa clave en su formación: el contacto directo con el ejercicio profesional\, los entornos productivos y los desafíos técnicos que plantea la geología aplicada. La UNCo\, como universidad pública comprometida con el desarrollo regional\, promueve este tipo de actividades para fortalecer el vínculo entre saberes teóricos y experiencias prácticas. \nDurante el conversatorio\, se abordarán aspectos centrales de la Práctica Profesional Geológica: criterios de planificación\, requisitos académicos\, posibilidades de inserción en organismos públicos\, empresas privadas y proyectos de investigación\, así como recomendaciones para el diseño de propuestas que articulen formación\, territorio y compromiso ético. \nLa Dra. Musso y el Lic. Mendiberri compartirán experiencias\, responderán consultas y promoverán el intercambio entre estudiantes\, docentes y profesionales. El objetivo es que cada participante pueda construir una mirada crítica y situada sobre su futura práctica\, reconociendo los desafíos técnicos\, ambientales y sociales que atraviesan el trabajo geológico en la Norpatagonia y otras regiones del país. \nLa Práctica Profesional Geológica representa una instancia de aprendizaje que trasciende lo técnico: es una oportunidad para que los futuros profesionales se vinculen con problemáticas reales\, aporten soluciones desde una perspectiva científica y reconozcan el valor del trabajo interdisciplinario. En este sentido\, el taller se inscribe en una política institucional que busca formar geólogos comprometidos con el desarrollo sostenible\, el cuidado ambiental y la producción de conocimiento situado. \nDesde la Facultad de Ingeniería\, la Universidad Nacional del Comahue reafirma su compromiso con la formación integral\, el acompañamiento estudiantil y la construcción de espacios de diálogo que preparen a sus egresados para intervenir con solvencia y responsabilidad en el mundo profesional. \nPara participar completá el formulario de preinscripción:  https://docs.google.com/forms/d/e/1FAIpQLSfcSzOUNj0-yJMl29AAeAusfuLA3SaKJPr0gipQM3z1ZFDBww/viewform
URL:https://uncoma.edu.ar/evento/explorar-el-terreno-profesional-convocan-a-un-taller-clave-para-estudiantes-de-geologia/
CATEGORIES:Encuentro
ATTACH;FMTTYPE=image/jpeg:https://uncoma.edu.ar/wp-content/uploads/2025/10/571251163_1569654124376900_6250142318371904228_n.jpg
END:VEVENT
END:VCALENDAR