BEGIN:VCALENDAR
VERSION:2.0
PRODID:-//Universidad Nacional del Comahue - ECPv6.11.2//NONSGML v1.0//EN
CALSCALE:GREGORIAN
METHOD:PUBLISH
X-WR-CALNAME:Universidad Nacional del Comahue
X-ORIGINAL-URL:https://uncoma.edu.ar
X-WR-CALDESC:Eventos para Universidad Nacional del Comahue
REFRESH-INTERVAL;VALUE=DURATION:PT1H
X-Robots-Tag:noindex
X-PUBLISHED-TTL:PT1H
BEGIN:VTIMEZONE
TZID:America/Sao_Paulo
BEGIN:STANDARD
TZOFFSETFROM:-0300
TZOFFSETTO:-0300
TZNAME:-03
DTSTART:20230101T000000
END:STANDARD
END:VTIMEZONE
BEGIN:VEVENT
DTSTART;TZID=America/Sao_Paulo:20230512T080000
DTEND;TZID=America/Sao_Paulo:20230517T170000
DTSTAMP:20260419T212250
CREATED:20230425T142007Z
LAST-MODIFIED:20230425T142007Z
UID:14455-1683878400-1684342800@uncoma.edu.ar
SUMMARY:El recientemente inaugurado Museo del Desierto Patagónico de Añelo realizará su primera muestra temporaria: “Las lagartijas endémicas del Bajo Añelo. “
DESCRIPTION:La exposición será inaugurada el 12 de mayo y estará disponible hasta el 1 de junio. \nEl Museo Desierto Patagónico de Añelo el cual es coordinado conjuntamente con la Universidad Nacional del Comahue y La Municipalidad de Añelo inaugura la muestra audiovisual “Conservando la Lagartija de las Dunas de Añelo (Liolaemus cuyumhue)”. La actividad es organizada por investigadores del Instituto Patagónico para el Estudio de los Ecosistemas Continentales (IPEEC-CONICET) y del Instituto de Investigaciones de Biodiversidad y Medio Ambiente (INIBIOMA-CONICET) que trabajan conjuntamente en el proyecto PLEBA (Proyecto Lagartija Endémica del Bajo de Añelo). El proyecto combina trabajo de investigación con actividades de divulgación sobre la conservación de las lagartijas. El objetivo es dar a conocer las especies de lagartijas que habitan el monte neuquino\, en particular de la Lagartija de las Dunas de Añelo (Liolaemus cuyumhue).
URL:https://uncoma.edu.ar/evento/el-recientemente-inaugurado-museo-del-desierto-patagonico-de-anelo-realizara-su-primera-muestra-temporaria-las-lagartijas-endemicas-del-bajo-anelo/
CATEGORIES:Charla
ATTACH;FMTTYPE=image/jpeg:https://uncoma.edu.ar/wp-content/uploads/2023/04/9e5e368f-86dd-449c-81a9-85fedc9f26a5.jpeg
END:VEVENT
END:VCALENDAR