BEGIN:VCALENDAR
VERSION:2.0
PRODID:-//Universidad Nacional del Comahue - ECPv6.11.2//NONSGML v1.0//EN
CALSCALE:GREGORIAN
METHOD:PUBLISH
X-WR-CALNAME:Universidad Nacional del Comahue
X-ORIGINAL-URL:https://uncoma.edu.ar
X-WR-CALDESC:Eventos para Universidad Nacional del Comahue
REFRESH-INTERVAL;VALUE=DURATION:PT1H
X-Robots-Tag:noindex
X-PUBLISHED-TTL:PT1H
BEGIN:VTIMEZONE
TZID:America/Sao_Paulo
BEGIN:STANDARD
TZOFFSETFROM:-0300
TZOFFSETTO:-0300
TZNAME:-03
DTSTART:20230101T000000
END:STANDARD
END:VTIMEZONE
BEGIN:VEVENT
DTSTART;TZID=America/Sao_Paulo:20230904T080000
DTEND;TZID=America/Sao_Paulo:20230907T170000
DTSTAMP:20260419T193213
CREATED:20230904T134159Z
LAST-MODIFIED:20230904T134159Z
UID:22543-1693814400-1694106000@uncoma.edu.ar
SUMMARY:Dictan curso de “Química y bioquímica orientada a alimentos”
DESCRIPTION:La Facultad de Ciencias y Tecnología de los Alimentos de la UNCO instrumenta un curso de Posgrado sobre: “Química y bioquímica orientada a alimentos”. \nLa actividad comenzará el 8 de septiembre con cursados los: viernes y sábados en el horario de los viernes de 9 a 11 hs. y los sábados de 9 a 12 hs.- Para cursar es requisitos ser graduados o graduadas de carreras de grado.- \nPara inscripciones se puede ingresar en los siguientes links: \nPrograma del Curso: https://bit.ly/programa_alimentos \nAranceles: https://bit.ly/aranceles_alimentos \nFormulario de Inscripción: https://forms.gle/a4hR49dfMauxXMXP7 \nPara más información escribir al mail: secretaria.posgrado@facta.uncoma.edu.ar
URL:https://uncoma.edu.ar/evento/dictan-curso-de-quimica-y-bioquimica-orientada-a-alimentos-2/
CATEGORIES:Evento
ATTACH;FMTTYPE=image/jpeg:https://uncoma.edu.ar/wp-content/uploads/2023/09/370618212_880903960243695_736567053909487145_n.jpg
END:VEVENT
END:VCALENDAR