BEGIN:VCALENDAR
VERSION:2.0
PRODID:-//Universidad Nacional del Comahue - ECPv6.11.2//NONSGML v1.0//EN
CALSCALE:GREGORIAN
METHOD:PUBLISH
X-WR-CALNAME:Universidad Nacional del Comahue
X-ORIGINAL-URL:https://uncoma.edu.ar
X-WR-CALDESC:Eventos para Universidad Nacional del Comahue
REFRESH-INTERVAL;VALUE=DURATION:PT1H
X-Robots-Tag:noindex
X-PUBLISHED-TTL:PT1H
BEGIN:VTIMEZONE
TZID:America/Argentina/Buenos_Aires
BEGIN:STANDARD
TZOFFSETFROM:-0300
TZOFFSETTO:-0300
TZNAME:-03
DTSTART:20250101T000000
END:STANDARD
END:VTIMEZONE
BEGIN:VEVENT
DTSTART;TZID=America/Argentina/Buenos_Aires:20251115T210000
DTEND;TZID=America/Argentina/Buenos_Aires:20251115T233000
DTSTAMP:20260422T133111
CREATED:20250930T092317Z
LAST-MODIFIED:20250930T092317Z
UID:33723-1763240400-1763249400@uncoma.edu.ar
SUMMARY:Ciencia\, sabor y comunidad: FACTA celebra sus 50 años con una Cena Baile que honra su historia
DESCRIPTION:La Universidad Nacional del Comahue (UNCo) se prepara para celebrar medio siglo de compromiso académico\, científico y territorial a través de una de sus facultades más emblemáticas: la Facultad de Ciencias y Tecnología de los Alimentos (FACTA). En el marco de su 50° aniversario\, se invita a toda la comunidad universitaria y regional a participar de una Cena Baile Aniversario que promete ser un encuentro de memoria\, afecto y reconocimiento colectivo. \nLa actividad tendrá lugar el sábado 15 de noviembre de 2025\, a las 21:00 horas\, en el Salón de Usos Múltiples de la Escuela Industrial (I.N.S.R.) de Villa Regina. Será una noche especial para compartir logros\, desafíos y vínculos construidos a lo largo de cinco décadas de trabajo sostenido en el ámbito de la ciencia y la educación alimentaria. \nLa Cena Baile no es solo una propuesta festiva: es una instancia de celebración institucional que busca reunir a quienes han sido parte de la historia de FACTA\, desde sus primeros pasos hasta su consolidación como espacio de formación profesional\, investigación aplicada y compromiso con el desarrollo regional. El menú ya está disponible para consulta\, anticipando una velada pensada con dedicación y cuidado. \nLas entradas pueden adquirirse en la Secretaría de Extensión de FACTA (Reconquista y 25 de Mayo – Villa Regina)\, en horario de 8 a 12 y de 14 a 17 horas. El valor es de $60.000 hasta el 5 de noviembre\, y luego será de $65.000. Se ofrece la posibilidad de abonar en dos cuotas. Para consultas\, está disponible el teléfono 2984463200\, interno 106. \nEste aniversario representa una oportunidad para celebrar el camino recorrido\, reconocer a quienes lo hicieron posible y renovar el compromiso con la educación pública\, la ciencia y el vínculo humano. FACTA invita a reservar un lugar en esta noche única\, donde cada brindis será también una promesa de futuro compartido.
URL:https://uncoma.edu.ar/evento/ciencia-sabor-y-comunidad-facta-celebra-sus-50-anos-con-una-cena-baile-que-honra-su-historia/
CATEGORIES:Evento
ATTACH;FMTTYPE=image/jpeg:https://uncoma.edu.ar/wp-content/uploads/2025/09/6c330c6b-18e3-45d7-92c1-39448da8dc24.jpg
END:VEVENT
END:VCALENDAR