BEGIN:VCALENDAR
VERSION:2.0
PRODID:-//Universidad Nacional del Comahue - ECPv6.11.2//NONSGML v1.0//EN
CALSCALE:GREGORIAN
METHOD:PUBLISH
X-WR-CALNAME:Universidad Nacional del Comahue
X-ORIGINAL-URL:https://uncoma.edu.ar
X-WR-CALDESC:Eventos para Universidad Nacional del Comahue
REFRESH-INTERVAL;VALUE=DURATION:PT1H
X-Robots-Tag:noindex
X-PUBLISHED-TTL:PT1H
BEGIN:VTIMEZONE
TZID:America/Argentina/Buenos_Aires
BEGIN:STANDARD
TZOFFSETFROM:-0300
TZOFFSETTO:-0300
TZNAME:-03
DTSTART:20250101T000000
END:STANDARD
END:VTIMEZONE
BEGIN:VEVENT
DTSTART;TZID=America/Argentina/Buenos_Aires:20251204T170000
DTEND;TZID=America/Argentina/Buenos_Aires:20251204T190000
DTSTAMP:20260422T033332
CREATED:20251204T092657Z
LAST-MODIFIED:20251204T092657Z
UID:34927-1764867600-1764874800@uncoma.edu.ar
SUMMARY:Ciencia en casa: La UNCo impulsa la reutilización tecnológica para observar aves
DESCRIPTION:La Universidad Nacional del Comahue (UNCo)\, junto al Instituto de Investigaciones en Biodiversidad y Medioambiente (INIBIOMA\, CONICET–UNCo)\, presenta una propuesta académica que une ciencia ciudadana\, tecnología y conciencia ambiental. Se trata de la Charla–Taller “Ciencia en Casa – Reutilizá tu Celular para Registrar Aves”\, un encuentro que invita a transformar teléfonos en desuso en cámaras trampa caseras para descubrir la fauna que habita nuestros jardines. \nTecnología con una segunda vida \nLa actividad parte de una idea sencilla: aprovechar celulares que ya no se utilizan para convertirlos en dispositivos de observación científica. Durante el taller se enseñará a configurar estos equipos como cámaras automáticas capaces de registrar aves y otros animales\, promoviendo la reutilización tecnológica y el acercamiento cotidiano al ambiente. \nCiencia ciudadana y jardines amigables \nEl encuentro se enmarca en el proyecto “Cómo construir jardines amigables con la naturaleza”\, que busca fomentar espacios urbanos y domésticos donde la biodiversidad pueda prosperar. A través de experiencias reales de registro automatizado\, los participantes conocerán aplicaciones prácticas para capturar imágenes a distancia y contribuir al conocimiento de la fauna local. La propuesta refuerza la idea de que la ciencia puede comenzar en casa y que cada persona puede convertirse en observadora activa de su entorno. \nEl especialista a cargo \nEl taller será dictado por Federico Mezio\, naturalista y Magíster en Ingeniería (CAB–CNEA)\, colaborador del grupo BEAP y del proyecto Jardines para la Naturaleza del INIBIOMA. Su experiencia en el estudio de aves y en la aplicación de tecnologías accesibles permitirá a los asistentes comprender cómo un recurso cotidiano puede convertirse en una herramienta científica de gran valor. \nDetalles del encuentro: Fecha: Jueves 4 de diciembre en el horario de 17:30 a 19:00 h en la Sala de seminarios del INIBIOMA – Pasaje Gutiérrez 1415\, Bariloche \n  \nUn compromiso con el ambiente \nLa UNCo reafirma con esta iniciativa su compromiso con la educación ambiental y la divulgación científica. Al promover la reutilización de dispositivos electrónicos\, se contribuye a reducir residuos tecnológicos y\, al mismo tiempo\, se fortalece la participación ciudadana en la observación de la biodiversidad. La propuesta es un ejemplo de cómo la universidad pública puede tender puentes entre la investigación académica y la vida cotidiana\, generando conciencia y acción en favor de la naturaleza. \n  \n 
URL:https://uncoma.edu.ar/evento/ciencia-en-casa-la-unco-impulsa-la-reutilizacion-tecnologica-para-observar-aves/
CATEGORIES:Charla
ATTACH;FMTTYPE=image/jpeg:https://uncoma.edu.ar/wp-content/uploads/2025/12/593386444_1421662589969480_1497907119400922856_n.jpg
END:VEVENT
END:VCALENDAR