BEGIN:VCALENDAR
VERSION:2.0
PRODID:-//Universidad Nacional del Comahue - ECPv6.11.2//NONSGML v1.0//EN
CALSCALE:GREGORIAN
METHOD:PUBLISH
X-WR-CALNAME:Universidad Nacional del Comahue
X-ORIGINAL-URL:https://uncoma.edu.ar
X-WR-CALDESC:Eventos para Universidad Nacional del Comahue
REFRESH-INTERVAL;VALUE=DURATION:PT1H
X-Robots-Tag:noindex
X-PUBLISHED-TTL:PT1H
BEGIN:VTIMEZONE
TZID:America/Sao_Paulo
BEGIN:STANDARD
TZOFFSETFROM:-0300
TZOFFSETTO:-0300
TZNAME:-03
DTSTART:20240101T000000
END:STANDARD
END:VTIMEZONE
BEGIN:VEVENT
DTSTART;TZID=America/Sao_Paulo:20241206T080000
DTEND;TZID=America/Sao_Paulo:20241206T170000
DTSTAMP:20260421T174252
CREATED:20241129T134046Z
LAST-MODIFIED:20241129T134046Z
UID:29568-1733472000-1733504400@uncoma.edu.ar
SUMMARY:Ciclo de charlas sobre la Chinche Tigre del Almendro en la UNCo
DESCRIPTION:La Facultad de Ciencias Agrarias de la Universidad Nacional del Comahue (UNCo) ha anunciado un Ciclo de Charlas de Actualización dirigido a profesionales de las Ciencias Agrarias. Este evento se centrará en los aspectos bioecológicos de la chinche tigre del almendro (Monosteira unicostata) y sus implicancias como plaga cuarentenaria en la fruticultura del Alto Valle de Río Negro y Neuquén. \nLa actividad está programada para el viernes 6 de diciembre a las 10 horas y se llevará a cabo de manera híbrida a través de una sala de Zoom. \nLa chinche tigre del almendro es una plaga que afecta significativamente a la fruticultura\, especialmente en el Alto Valle de Río Negro y Neuquén. Entender sus aspectos bioecológicos es crucial para desarrollar estrategias de control y manejo que minimicen su impacto en los cultivos. \nEste ciclo de charlas representa una oportunidad valiosa para que los profesionales de las Ciencias Agrarias se actualicen sobre los desafíos que presenta la chinche tigre del almendro y fortalezcan sus conocimientos en el manejo de plagas cuarentenarias. La colaboración entre la academia y los profesionales del sector es esencial para avanzar en soluciones efectivas y sostenibles. \nQuienes estén interesados podrán inscribirse en el siguiente link:   https://bit.ly/3YZbQit
URL:https://uncoma.edu.ar/evento/ciclo-de-charlas-sobre-la-chinche-tigre-del-almendro-en-la-unco/
ATTACH;FMTTYPE=image/jpeg:https://uncoma.edu.ar/wp-content/uploads/2024/11/468718073_1067691575146917_5902646908437089799_n.jpg
END:VEVENT
END:VCALENDAR