BEGIN:VCALENDAR
VERSION:2.0
PRODID:-//Universidad Nacional del Comahue - ECPv6.11.2//NONSGML v1.0//EN
CALSCALE:GREGORIAN
METHOD:PUBLISH
X-WR-CALNAME:Universidad Nacional del Comahue
X-ORIGINAL-URL:https://uncoma.edu.ar
X-WR-CALDESC:Eventos para Universidad Nacional del Comahue
REFRESH-INTERVAL;VALUE=DURATION:PT1H
X-Robots-Tag:noindex
X-PUBLISHED-TTL:PT1H
BEGIN:VTIMEZONE
TZID:America/Sao_Paulo
BEGIN:STANDARD
TZOFFSETFROM:-0300
TZOFFSETTO:-0300
TZNAME:-03
DTSTART:20230101T000000
END:STANDARD
END:VTIMEZONE
BEGIN:VEVENT
DTSTART;TZID=America/Sao_Paulo:20230419T080000
DTEND;TZID=America/Sao_Paulo:20230427T170000
DTSTAMP:20260422T114616
CREATED:20230419T153158Z
LAST-MODIFIED:20230419T153158Z
UID:14336-1681891200-1682614800@uncoma.edu.ar
SUMMARY:Charla sobre huerta agroecológica de otoño invierno en la UNCo
DESCRIPTION:La Secretaría de Extensión de la Facultad de Derecho y Ciencias de la Universidad Nacional del Comahue invita a la charla sobre Huerta Agroecológica\, temporada otoño-invierno\, que se realizará el jueves 27 de abril de 14 a 16 hs en el aula 12 de la sede de la facultad en Mendoza y Perú de General Roca. \nEl expositor será el ingeniero agrónomo Pablo Antonio Vásquez (Agencia INTA General Roca). La charla es gratuita y abierta a todo público. No requiere inscripción previa.
URL:https://uncoma.edu.ar/evento/charla-sobre-huerta-agroecologica-de-otono-invierno-en-la-unco/
CATEGORIES:Charla
ATTACH;FMTTYPE=image/jpeg:https://uncoma.edu.ar/wp-content/uploads/2023/04/1146dcf3-23ca-47f6-9520-0b8a61bec2ea.jpeg
END:VEVENT
END:VCALENDAR