BEGIN:VCALENDAR
VERSION:2.0
PRODID:-//Universidad Nacional del Comahue - ECPv6.11.2//NONSGML v1.0//EN
CALSCALE:GREGORIAN
METHOD:PUBLISH
X-WR-CALNAME:Universidad Nacional del Comahue
X-ORIGINAL-URL:https://uncoma.edu.ar
X-WR-CALDESC:Eventos para Universidad Nacional del Comahue
REFRESH-INTERVAL;VALUE=DURATION:PT1H
X-Robots-Tag:noindex
X-PUBLISHED-TTL:PT1H
BEGIN:VTIMEZONE
TZID:America/Argentina/Buenos_Aires
BEGIN:STANDARD
TZOFFSETFROM:-0300
TZOFFSETTO:-0300
TZNAME:-03
DTSTART:20260101T000000
END:STANDARD
END:VTIMEZONE
BEGIN:VEVENT
DTSTART;TZID=America/Argentina/Buenos_Aires:20260420T080000
DTEND;TZID=America/Argentina/Buenos_Aires:20260420T170000
DTSTAMP:20260420T073450
CREATED:20260302T133428Z
LAST-MODIFIED:20260302T133453Z
UID:10003149-1776672000-1776704400@uncoma.edu.ar
SUMMARY:La UNCo ofrece curso de posgrado en análisis filogenético con datos moleculares
DESCRIPTION:La Universidad Nacional del Comahue (UNCo)\, a través del Departamento de Posgrado del Centro Regional Universitario Bariloche (CRUB)\, anuncia la apertura de inscripciones para el curso de posgrado “Análisis filogenético con datos moleculares”\, que se dictará del 20 al 30 de abril de 2026\, en horario de 8:30 a 13:00 horas. La inscripción permanecerá abierta hasta el 29 de marzo de 2026. \nLa propuesta académica aborda un conjunto de herramientas teóricas y prácticas esenciales para el estudio de la evolución biológica: \nAlineamiento de secuencias y codificación de indels. \nConceptos fundamentales de filogenia: apomorfía\, homoplasia\, plesiomorfía\, sinapomorfía\, clado. \nDistancias genéticas y modelos de evolución molecular. \nIdentificación de haplotipos: definición\, frecuencias y aplicaciones. \nMétodos de reconstrucción filogenética: distancia\, parsimonia\, máxima verosimilitud y enfoque bayesiano. \nDiferencias entre filogenia de genes y de especies. \nIntroducción a portales de servicio para análisis y al uso de R Project. \nEstrategias para la presentación gráfica y escrita de resultados. \nUn espacio académico de excelencia \nEste curso de posgrado se inscribe en la tradición de la UNCo de ofrecer formación avanzada en áreas de alta relevancia científica. La propuesta busca fortalecer las competencias de investigadores\, docentes y profesionales vinculados a la biología molecular\, la genética y la bioinformática\, promoviendo el uso de metodologías actualizadas para el análisis filogenético. \n  \nInscripción y contacto \nLos interesados pueden acceder a más información e inscribirse a través del sitio oficial: https://posgrado.crub.uncoma.edu.ar/?page_id=478  o escribinos a: deptopostgradocrub@gmail.com \nCon el curso “Análisis filogenético con datos moleculares”\, la Universidad Nacional del Comahue reafirma su compromiso con la formación de posgrado de calidad\, ofreciendo herramientas que integran teoría\, práctica y tecnología para el estudio de la evolución biológica. \nLa UNCo se consolida como referente académico en la región patagónica\, impulsando la investigación y la innovación en ciencias biológicas.
URL:https://uncoma.edu.ar/evento/la-unco-ofrece-curso-de-posgrado-en-analisis-filogenetico-con-datos-moleculares/
CATEGORIES:Encuentro
ATTACH;FMTTYPE=image/jpeg:https://uncoma.edu.ar/wp-content/uploads/2026/03/640517300_1491577152978023_1439180371939173595_n.jpg
END:VEVENT
END:VCALENDAR