BEGIN:VCALENDAR
VERSION:2.0
PRODID:-//Universidad Nacional del Comahue - ECPv6.11.2//NONSGML v1.0//EN
CALSCALE:GREGORIAN
METHOD:PUBLISH
X-WR-CALNAME:Universidad Nacional del Comahue
X-ORIGINAL-URL:https://uncoma.edu.ar
X-WR-CALDESC:Eventos para Universidad Nacional del Comahue
REFRESH-INTERVAL;VALUE=DURATION:PT1H
X-Robots-Tag:noindex
X-PUBLISHED-TTL:PT1H
BEGIN:VTIMEZONE
TZID:America/Argentina/Buenos_Aires
BEGIN:STANDARD
TZOFFSETFROM:-0300
TZOFFSETTO:-0300
TZNAME:-03
DTSTART:20250101T000000
END:STANDARD
END:VTIMEZONE
BEGIN:VEVENT
DTSTART;TZID=America/Argentina/Buenos_Aires:20251203T170000
DTEND;TZID=America/Argentina/Buenos_Aires:20260104T200000
DTSTAMP:20260422T045137
CREATED:20251128T093936Z
LAST-MODIFIED:20251128T093936Z
UID:10003122-1764781200-1767556800@uncoma.edu.ar
SUMMARY:La UNCo presenta los Trabajos Finales de la Tecnicatura en Desarrollo Web: innovación y talento en el Campus Neuquén
DESCRIPTION:Los próximos 3 y 4 de diciembre\, la Facultad de Informática de la Universidad Nacional del Comahue (UNCo) abrirá sus puertas para compartir con la comunidad académica y el público en general la Presentación de los Trabajos Finales de la Tecnicatura en Desarrollo Web. El encuentro se desarrollará en el Aula i1 del Campus Neuquén\, de 17:20 a 20:00 horas\, y promete ser un espacio de descubrimiento de soluciones creativas\, innovación tecnológica y talento local. \n\nProyectos conectados con necesidades reales\nDurante las dos jornadas se exhibirán proyectos que integran herramientas y tecnologías actuales\, diseñados para responder a demandas concretas de distintos sectores productivos y sociales. Entre las propuestas se destacan: \n\nUn proyecto en articulación con CONICET – INTA Línea Sur\, que vincula el desarrollo web con la investigación científica.\nLa app del equipo ganador del Hacka Neuquén 2024\, ejemplo de creatividad y trabajo colaborativo.\nSoluciones de tecnología QR con integración a medios de pago\, orientadas a la modernización de transacciones comerciales.\nSistemas de stock para empresas de Oil & Gas\, que optimizan la gestión de recursos en un sector estratégico de la región.\nHerramientas de seguimiento de envíos en tiempo real con sockets\, aplicables a la logística y distribución.\nJuegos multijugador en línea\, también desarrollados con sockets\, que muestran el potencial del entretenimiento digital.\nAplicaciones Android construidas con stacks tecnológicos comerciales\, pensadas para la movilidad y el acceso inmediato.\nSistemas con inteligencia artificial aplicados a problemas concretos\, que reflejan el avance de la disciplina en la vida cotidiana.\n\n\nUn espacio de encuentro y aprendizaje\nLa presentación de los trabajos finales no solo constituye una instancia de evaluación académica\, sino también una oportunidad para que estudiantes\, docentes\, profesionales y público interesado conozcan de primera mano el potencial de las nuevas generaciones de desarrolladores web. La actividad busca acercar la universidad a la sociedad\, mostrando cómo el conocimiento adquirido en las aulas se traduce en soluciones prácticas para distintos ámbitos. \nLa UNCo y su compromiso con la innovación\nCon esta iniciativa\, la Universidad Nacional del Comahue reafirma su compromiso con la formación de profesionales capaces de enfrentar los desafíos tecnológicos actuales y futuros. La Tecnicatura en Desarrollo Web se consolida como una carrera que no solo brinda herramientas técnicas\, sino que también fomenta la creatividad\, la innovación y la conexión con las necesidades del territorio. \nLos días 3 y 4 de diciembre\, el Aula i1 de la Facultad de Informática será el escenario donde la UNCo mostrará cómo el talento local se convierte en motor de innovación tecnológica.
URL:https://uncoma.edu.ar/evento/la-unco-presenta-los-trabajos-finales-de-la-tecnicatura-en-desarrollo-web-innovacion-y-talento-en-el-campus-neuquen/
CATEGORIES:Encuentro
ATTACH;FMTTYPE=image/jpeg:https://uncoma.edu.ar/wp-content/uploads/2025/11/592101090_1359210296000629_1285540078844933873_n.jpg
END:VEVENT
BEGIN:VEVENT
DTSTART;TZID=America/Argentina/Buenos_Aires:20251219T113000
DTEND;TZID=America/Argentina/Buenos_Aires:20251219T123000
DTSTAMP:20260422T045137
CREATED:20251218T193105Z
LAST-MODIFIED:20251218T193105Z
UID:10003138-1766143800-1766147400@uncoma.edu.ar
SUMMARY:La UNCo impulsa la formación de guías para resguardar el Parque Paleontológico El Sauce
DESCRIPTION:La Universidad Nacional del Comahue (UNCo)\, a través de su Facultad de Turismo\, concluyó con éxito el curso de formación destinado a guías de sitio del Parque Paleontológico El Sauce\, un espacio único en la región del Limay que alberga fósiles petrificados de gran valor científico y cultural. La iniciativa\, desarrollada en articulación con los ministerios de Turismo\, Ambiente y Recursos Naturales\, Juventud\, Deportes y Cultura de la Provincia del Neuquén\, junto con la Comisión de Fomento de El Sauce\, marca un paso decisivo en la preparación de futuros prestadores turísticos comprometidos con la preservación del patrimonio natural. \nEl próximo viernes 19 de diciembre\, a las 11:30 horas\, se llevará a cabo la entrega de certificados en calle Félix San Martín 182 de Neuquén Capital. Este acto simboliza la culminación de un proceso educativo que buscó dotar a los participantes de competencias técnicas y conocimientos específicos para desempeñarse como guías habilitados en el Parque. La formación no solo apunta a fortalecer la calidad de las visitas guiadas\, sino también a garantizar que quienes ejerzan esta tarea contribuyan activamente a la protección y puesta en valor de un sitio que concentra vestigios de la vida de hace aproximadamente 97 millones de años. \nLa propuesta académica se enmarca en la estrategia de la UNCo de vincular la educación superior con las necesidades territoriales\, promoviendo la profesionalización de actores locales y la consolidación de proyectos turísticos sustentables. En este sentido\, la Facultad de Turismo reafirma su compromiso con la generación de conocimiento aplicado y la formación de recursos humanos capaces de dinamizar el desarrollo regional. \nActualmente\, la Subsecretaría de Cultura provincial\, organismo responsable del uso y funcionamiento del Parque\, trabaja junto a la cartera turística en la puesta en valor del área para su próxima apertura al público. Este proceso incluye la adecuación de senderos\, la señalización interpretativa y la capacitación de personal\, con el objetivo de ofrecer experiencias educativas y recreativas que respeten la fragilidad del entorno. \nLa localidad de El Sauce\, situada a 155 kilómetros de Neuquén capital y próxima a Picún Leufú\, se convierte así en un punto estratégico para la difusión del patrimonio paleontológico. A unos 15 kilómetros del casco urbano se encuentra el Parque Paleontológico\, creado en 2023 para proteger un conjunto de troncos fósiles y otras formas de vida petrificadas. La riqueza del sitio se complementa con el museo local\, donde se exhiben hallazgos relevantes desde el punto de vista arqueológico y paleontológico\, constituyendo un espacio clave para la divulgación científica. \nLa entrega de certificados representa más que un cierre formal: es la apertura de una nueva etapa en la que los guías formados podrán transmitir a visitantes y turistas el valor de un patrimonio que pertenece a toda la comunidad. Con esta acción\, la UNCo reafirma su rol como institución académica que no solo forma profesionales\, sino que también contribuye a la construcción de ciudadanía y al fortalecimiento de la identidad cultural de la región.
URL:https://uncoma.edu.ar/evento/la-unco-impulsa-la-formacion-de-guias-para-resguardar-el-parque-paleontologico-el-sauce/
CATEGORIES:Diplomatura
ATTACH;FMTTYPE=image/jpeg:https://uncoma.edu.ar/wp-content/uploads/2025/12/e5203d1a-bfc8-4cfc-9229-c5e322b0f960-e1766086346783.jpg
END:VEVENT
BEGIN:VEVENT
DTSTART;TZID=America/Argentina/Buenos_Aires:20251219T180000
DTEND;TZID=America/Argentina/Buenos_Aires:20251219T200000
DTSTAMP:20260422T045137
CREATED:20251217T141632Z
LAST-MODIFIED:20251217T142802Z
UID:10003137-1766167200-1766174400@uncoma.edu.ar
SUMMARY:La UNCo impulsa la formación marítima: FACIMAR inicia un webinar para promover la Tecnicatura en Producción Pesquera y Maricultura
DESCRIPTION:La Facultad de Ciencias Marinas (FACIMAR) de la Universidad Nacional del Comahue (UNCo) dio inicio a un nuevo ciclo de formación y difusión académica con el comienzo de un webinar destinado a promocionar la Tecnicatura en Producción Pesquera y Maricultura\, una de las propuestas formativas estratégicas para el desarrollo sostenible del sector marítimo-pesquero en la región. \nLa actividad\, que se desarrolla en la sede de FACIMAR\, se realizará el viernes 19 de diciembre\, en el horario de 18 a 20 horas. El espacio está dirigido a estudiantes secundarios\, ingresantes\, docentes\, profesionales del área y a toda persona interesada en conocer en profundidad los contenidos\, alcances y oportunidades que ofrece esta carrera técnica. \nEl webinar forma parte del programa “Formación de Saberes del Mar”\, una iniciativa institucional que busca fortalecer la vinculación entre la universidad\, la comunidad y los sectores productivos vinculados al mar. A través de encuentros virtuales y presenciales\, se propone acercar conocimientos actualizados sobre pesca\, maricultura\, manejo de recursos\, tecnologías aplicadas y desafíos ambientales\, promoviendo una mirada integral sobre la actividad. \nDurante las jornadas\, docentes y especialistas de FACIMAR presentan los ejes centrales de la Tecnicatura\, explican su estructura curricular y detallan las competencias profesionales que adquieren las y los estudiantes. Además\, se abordan temas clave como la producción acuícola\, la gestión de pesquerías\, la biología de especies de interés comercial y las prácticas formativas que se realizan en entornos reales de trabajo. \nEl espacio también permite responder consultas sobre el proceso de ingreso a la UNCo\, las posibilidades de continuidad académica y las oportunidades laborales que ofrece un sector en crecimiento\, donde la formación técnica especializada resulta fundamental para impulsar prácticas productivas responsables y sostenibles. \nCon esta propuesta\, la Universidad Nacional del Comahue reafirma su compromiso con la educación pública y la formación de profesionales capaces de aportar al desarrollo marítimo-pesquero de la Patagonia. FACIMAR continúa consolidándose como un referente regional en la generación de saberes vinculados al mar\, promoviendo la articulación entre ciencia\, territorio y comunidad. \nLa participación en el webinar representa una oportunidad para conocer de cerca una carrera con fuerte proyección y para sumarse a una formación que combina conocimiento científico\, práctica profesional y compromiso ambiental.
URL:https://uncoma.edu.ar/evento/la-unco-impulsa-la-formacion-maritima-facimar-inicia-un-webinar-para-promover-la-tecnicatura-en-produccion-pesquera-y-maricultura/
CATEGORIES:Charla
ATTACH;FMTTYPE=image/jpeg:https://uncoma.edu.ar/wp-content/uploads/2025/12/49b4f8ed-3732-467b-b361-d845ba40121e.jpg
END:VEVENT
END:VCALENDAR