BEGIN:VCALENDAR
VERSION:2.0
PRODID:-//Universidad Nacional del Comahue - ECPv6.11.2//NONSGML v1.0//EN
CALSCALE:GREGORIAN
METHOD:PUBLISH
X-ORIGINAL-URL:https://uncoma.edu.ar
X-WR-CALDESC:Eventos para Universidad Nacional del Comahue
REFRESH-INTERVAL;VALUE=DURATION:PT1H
X-Robots-Tag:noindex
X-PUBLISHED-TTL:PT1H
BEGIN:VTIMEZONE
TZID:America/Argentina/Buenos_Aires
BEGIN:STANDARD
TZOFFSETFROM:-0300
TZOFFSETTO:-0300
TZNAME:-03
DTSTART:20250101T000000
END:STANDARD
END:VTIMEZONE
BEGIN:VEVENT
DTSTART;TZID=America/Argentina/Buenos_Aires:20251203T170000
DTEND;TZID=America/Argentina/Buenos_Aires:20260104T200000
DTSTAMP:20260422T080956
CREATED:20251128T093936Z
LAST-MODIFIED:20251128T093936Z
UID:10003122-1764781200-1767556800@uncoma.edu.ar
SUMMARY:La UNCo presenta los Trabajos Finales de la Tecnicatura en Desarrollo Web: innovación y talento en el Campus Neuquén
DESCRIPTION:Los próximos 3 y 4 de diciembre\, la Facultad de Informática de la Universidad Nacional del Comahue (UNCo) abrirá sus puertas para compartir con la comunidad académica y el público en general la Presentación de los Trabajos Finales de la Tecnicatura en Desarrollo Web. El encuentro se desarrollará en el Aula i1 del Campus Neuquén\, de 17:20 a 20:00 horas\, y promete ser un espacio de descubrimiento de soluciones creativas\, innovación tecnológica y talento local. \n\nProyectos conectados con necesidades reales\nDurante las dos jornadas se exhibirán proyectos que integran herramientas y tecnologías actuales\, diseñados para responder a demandas concretas de distintos sectores productivos y sociales. Entre las propuestas se destacan: \n\nUn proyecto en articulación con CONICET – INTA Línea Sur\, que vincula el desarrollo web con la investigación científica.\nLa app del equipo ganador del Hacka Neuquén 2024\, ejemplo de creatividad y trabajo colaborativo.\nSoluciones de tecnología QR con integración a medios de pago\, orientadas a la modernización de transacciones comerciales.\nSistemas de stock para empresas de Oil & Gas\, que optimizan la gestión de recursos en un sector estratégico de la región.\nHerramientas de seguimiento de envíos en tiempo real con sockets\, aplicables a la logística y distribución.\nJuegos multijugador en línea\, también desarrollados con sockets\, que muestran el potencial del entretenimiento digital.\nAplicaciones Android construidas con stacks tecnológicos comerciales\, pensadas para la movilidad y el acceso inmediato.\nSistemas con inteligencia artificial aplicados a problemas concretos\, que reflejan el avance de la disciplina en la vida cotidiana.\n\n\nUn espacio de encuentro y aprendizaje\nLa presentación de los trabajos finales no solo constituye una instancia de evaluación académica\, sino también una oportunidad para que estudiantes\, docentes\, profesionales y público interesado conozcan de primera mano el potencial de las nuevas generaciones de desarrolladores web. La actividad busca acercar la universidad a la sociedad\, mostrando cómo el conocimiento adquirido en las aulas se traduce en soluciones prácticas para distintos ámbitos. \nLa UNCo y su compromiso con la innovación\nCon esta iniciativa\, la Universidad Nacional del Comahue reafirma su compromiso con la formación de profesionales capaces de enfrentar los desafíos tecnológicos actuales y futuros. La Tecnicatura en Desarrollo Web se consolida como una carrera que no solo brinda herramientas técnicas\, sino que también fomenta la creatividad\, la innovación y la conexión con las necesidades del territorio. \nLos días 3 y 4 de diciembre\, el Aula i1 de la Facultad de Informática será el escenario donde la UNCo mostrará cómo el talento local se convierte en motor de innovación tecnológica.
URL:https://uncoma.edu.ar/evento/la-unco-presenta-los-trabajos-finales-de-la-tecnicatura-en-desarrollo-web-innovacion-y-talento-en-el-campus-neuquen/
CATEGORIES:Encuentro
ATTACH;FMTTYPE=image/jpeg:https://uncoma.edu.ar/wp-content/uploads/2025/11/592101090_1359210296000629_1285540078844933873_n.jpg
END:VEVENT
BEGIN:VEVENT
DTSTART;TZID=America/Argentina/Buenos_Aires:20251215T080000
DTEND;TZID=America/Argentina/Buenos_Aires:20251215T130000
DTSTAMP:20260422T080956
CREATED:20251211T162645Z
LAST-MODIFIED:20251211T162757Z
UID:10003135-1765785600-1765803600@uncoma.edu.ar
SUMMARY:Nuevo encuentro por el Plan Estratégico Institucional
DESCRIPTION:La Secretaría de Planeamiento y Desarrollo Institucional invita a participar del debate sobre el  Eje estratégico: Gestión institucional del Plan Estratégico Institucional (PEI) 2025-2031. \nEl PEI\, un instrumento fundamental de la gestión universitaria\, busca construir colectivamente y traducir temas prioritarios en objetivos y metas concretas\, y orientar con certeza los recursos institucionales. \nLa presente convocatoria es para el lunes 15/12\, 10 h. Se debatirá sobre el Eje estratégico “Gestión institucional”\, sus líneas prioritarias y objetivos. \nDatos de conexión: \nDuración estimada: 2 horas\nSala de reuniones: ID: 827 0012 4178\, código de acceso: plan\, o el link \nMateriales: acceder desde este enlace. \nEn la web https://pei.uncoma.edu.ar/ encuentran información adicional sobre el PEI que puede resultar de interés. \nTu participación es indispensable. \nAgradecemos de antemano su compromiso y participación en esta tarea estratégica para el futuro de nuestra Universidad.
URL:https://uncoma.edu.ar/evento/nuevo-encuentro-por-el-plan-estrategico-institucional/
CATEGORIES:Charla
ATTACH;FMTTYPE=image/jpeg:https://uncoma.edu.ar/wp-content/uploads/2025/12/WhatsApp-Image-2025-12-11-at-10.49.57.jpeg
END:VEVENT
BEGIN:VEVENT
DTSTART;TZID=America/Argentina/Buenos_Aires:20251215T140000
DTEND;TZID=America/Argentina/Buenos_Aires:20251215T170000
DTSTAMP:20260422T080956
CREATED:20251212T122050Z
LAST-MODIFIED:20251212T122050Z
UID:10003136-1765807200-1765818000@uncoma.edu.ar
SUMMARY:La química invisible del fuego: UNCo abre el debate sobre ciencia y prevención\, un enfoque innovador sobre los incendios forestales
DESCRIPTION:El próximo lunes 15 de diciembre\, a las 14:00 horas\, la Universidad Nacional del Comahue (UNCo)\, a través del Instituto de Investigaciones en Biodiversidad y Medioambiente (INIBIOMA-CONICET/UNCo)\, será sede de un nuevo coloquio académico que busca profundizar en un aspecto poco explorado de los incendios forestales: la química oculta en la vegetación y su rol en la propagación del fuego. \nLa actividad se desarrollará en la Sala de Seminarios de INIBIOMA (Pasaje Gutiérrez 1415\, Neuquén) y contará con la participación del Dr. Fabián Guerrero Castro\, investigador de la Universidad Técnica Federico Santa María (Chile)\, reconocido por sus aportes en química aplicada y ciencias del fuego. \nLos incendios forestales suelen analizarse desde la meteorología\, la topografía y el comportamiento del fuego. Sin embargo\, el Dr. Guerrero Castro propone mirar más allá: los procesos químicos invisibles que ocurren dentro de las plantas. \nLa charla abordará cómo terpenos y ceras epicuticulares presentes en la vegetación determinan la inflamabilidad de distintas especies. \nSe presentarán estudios recientes que vinculan la composición química de las plantas con la facilidad de ignición y la velocidad de propagación del frente de fuego. \nSe discutirá el impacto de estas emisiones en la calidad del aire\, mostrando cómo los compuestos liberados durante los incendios contribuyen a la contaminación atmosférica. \nEste enfoque abre la puerta a nuevos sistemas de alerta temprana\, capaces de integrar química atmosférica y ecología del fuego para anticipar riesgos a partir de señales aéreas y parámetros ambientales. \nEl perfil del disertante \nEl Dr. Fabián Guerrero Castro ha consolidado una trayectoria internacional en la intersección entre química\, ecología y calidad del aire. \nHa liderado proyectos financiados por Fondecyt y Fondef\, además de participar en la Red Iberoamericana de Inflamabilidad Vegetal. \nSu investigación sobre emisiones inflamables bajo estrés vegetal forma parte del proyecto Exploración ANID. \nSus trabajos han sido difundidos por medios como AFP\, France24 y The Conversation\, y mantiene colaboraciones con instituciones como INIBIOMA-CONICET\, ICIFOR-INIA (CSIC) y UTFPR. \nUNCo como espacio de reflexión científica \nCon este coloquio\, la UNCo reafirma su papel como centro de referencia regional en la discusión científica sobre problemáticas ambientales. La actividad no solo busca difundir conocimiento especializado\, sino también generar conciencia sobre la importancia de integrar distintas disciplinas en la prevención de incendios forestales\, un desafío cada vez más urgente en la Patagonia y en el mundo.
URL:https://uncoma.edu.ar/evento/la-quimica-invisible-del-fuego-unco-abre-el-debate-sobre-ciencia-y-prevencion-un-enfoque-innovador-sobre-los-incendios-forestales/
CATEGORIES:Conferencia
ATTACH;FMTTYPE=image/jpeg:https://uncoma.edu.ar/wp-content/uploads/2025/12/597706015_1427950422674030_8733336447595308337_n.jpg
END:VEVENT
END:VCALENDAR