BEGIN:VCALENDAR
VERSION:2.0
PRODID:-//Universidad Nacional del Comahue - ECPv6.11.2//NONSGML v1.0//EN
CALSCALE:GREGORIAN
METHOD:PUBLISH
X-WR-CALNAME:Universidad Nacional del Comahue
X-ORIGINAL-URL:https://uncoma.edu.ar
X-WR-CALDESC:Eventos para Universidad Nacional del Comahue
REFRESH-INTERVAL;VALUE=DURATION:PT1H
X-Robots-Tag:noindex
X-PUBLISHED-TTL:PT1H
BEGIN:VTIMEZONE
TZID:America/Argentina/Buenos_Aires
BEGIN:STANDARD
TZOFFSETFROM:-0300
TZOFFSETTO:-0300
TZNAME:-03
DTSTART:20250101T000000
END:STANDARD
END:VTIMEZONE
BEGIN:VEVENT
DTSTART;TZID=America/Argentina/Buenos_Aires:20250901T080000
DTEND;TZID=America/Argentina/Buenos_Aires:20251127T170000
DTSTAMP:20260422T213328
CREATED:20250829T091158Z
LAST-MODIFIED:20250829T091158Z
UID:10003032-1756713600-1764262800@uncoma.edu.ar
SUMMARY:Justicia al alcance de todos: la UNCo fortalece el acceso legal con asesorías gratuitas en FADECS
DESCRIPTION:La Universidad Nacional del Comahue\, a través de la Facultad de Derecho y Ciencias Sociales (FADECS)\, reafirma su compromiso con la comunidad mediante un ciclo de Asesorías Jurídicas Gratuitas que se desarrollará durante el segundo semestre de 2025 en General Roca. Esta iniciativa\, que articula formación académica\, responsabilidad social y servicio público\, busca acercar el conocimiento jurídico a quienes más lo necesitan\, sin barreras económicas ni burocráticas. \nLas asesorías se llevarán a cabo en la Casita 1 de FADECS\, ubicada en la intersección de Mendoza y Perú\, en el corazón de General Roca. El espacio\, acondicionado para recibir consultas de manera confidencial y personalizada\, se convierte en un punto de encuentro entre estudiantes avanzados de la carrera de abogacía\, docentes especializados y vecinos que requieren orientación legal. \nEl cronograma previsto incluye seis encuentros\, todos en horario de 14 a 16 horas: \n📅 18 de septiembre \n📅 2 de octubre \n📅 16 de octubre \n📅 30 de octubre \n📅 6 de noviembre \n📅 20 de noviembre \nDurante estas jornadas\, se brindará asesoramiento en temas civiles\, laborales\, familiares y administrativos\, entre otros. Las consultas son gratuitas y no requieren inscripción previa\, lo que facilita el acceso directo a quienes enfrentan situaciones legales cotidianas y necesitan una guía confiable. \nDesde la FADECS destacan que esta propuesta no solo fortalece el vínculo entre la universidad y la comunidad\, sino que también representa una instancia formativa clave para los futuros profesionales del derecho. “Las asesorías permiten que nuestros estudiantes se enfrenten a casos reales\, desarrollen habilidades de escucha\, análisis y argumentación\, y comprendan el valor social de su rol como juristas”\, señalaron desde la coordinación del proyecto. \nLa iniciativa se enmarca en las políticas de extensión universitaria de la UNCo\, que promueven la democratización del conocimiento y el compromiso activo con los territorios. En tiempos donde el acceso a la justicia se vuelve un derecho cada vez más urgente\, la universidad pública se posiciona como aliada estratégica en la construcción de ciudadanía\, equidad y confianza institucional. \nCon esta propuesta\, la UNCo no solo abre sus puertas: las convierte en puentes. Porque el derecho\, cuando se comparte\, transforma. \nPara sacar turnos\, hay que solicitarlo al correo: asesoriasjuridicasgralroca@gmail.com – Solo se atiende con turno previo.
URL:https://uncoma.edu.ar/evento/justicia-al-alcance-de-todos-la-unco-fortalece-el-acceso-legal-con-asesorias-gratuitas-en-fadecs/
CATEGORIES:Charla
ATTACH;FMTTYPE=image/webp:https://uncoma.edu.ar/wp-content/uploads/2025/08/WhatsApp-Image-2023-08-15-at-16.16.35.webp
END:VEVENT
BEGIN:VEVENT
DTSTART;TZID=America/Argentina/Buenos_Aires:20251107T090000
DTEND;TZID=America/Argentina/Buenos_Aires:20251205T123000
DTSTAMP:20260422T213328
CREATED:20251007T172212Z
LAST-MODIFIED:20251008T165527Z
UID:10003078-1762506000-1764937800@uncoma.edu.ar
SUMMARY:UNCo fortalece la inclusión académica: curso intensivo sobre producción de material accesible
DESCRIPTION:En el marco de su compromiso institucional con la accesibilidad y la equidad educativa\, la Universidad Nacional del Comahue (UNCo) anuncia una nueva instancia formativa destinada a docentes\, no-docentes\, tutores pares y referentes de accesibilidad. Se trata del curso-taller intensivo “Introducción a la Producción de Material Académico Accesible”\, que se desarrollará el viernes 7 de noviembre de 2025\, de 9:00 a 12:00 hs\, en modalidad híbrida desde el aula 10 de la Facultad de Turismo\, sede central de la UNCo en Neuquén capital. \nLa actividad forma parte del módulo “TIC’s y Trayectorias Académicas” y se inscribe en el “Ciclo de capacitación\, formación y acompañamiento permanente para Tutores/as Pares de Accesibilidad 2025”\, impulsado por la Comisión Universitaria sobre Accesibilidad al Medio Físico y Social y la Facultad de Turismo de la UNCo. \nCon una duración de tres horas reloj\, el curso propone un abordaje intensivo sobre la producción de materiales académicos accesibles\, entendiendo la accesibilidad como un principio transversal que debe atravesar las prácticas pedagógicas\, administrativas y comunicacionales de la universidad. Desde una perspectiva de la discapacidad anclada en los derechos humanos\, se busca brindar herramientas concretas que permitan fortalecer los sistemas de apoyo a las trayectorias universitarias. \nLa propuesta está dirigida a quienes desempeñan funciones clave en el acompañamiento de estudiantes con discapacidad: tutores pares\, docentes\, personal administrativo y referentes de accesibilidad de todas las unidades académicas de la UNCo. El objetivo general es promover un trayecto formativo que contribuya a la construcción de entornos académicos más inclusivos\, donde el acceso al conocimiento no dependa de barreras físicas\, tecnológicas o simbólicas. \nEntre los objetivos específicos se destacan la entrega de recursos técnicos para la elaboración de materiales accesibles\, la proyección del ciclo de formación para tutores pares durante todo el 2025\, y el fortalecimiento de las capacidades institucionales de la UNCo en materia de accesibilidad académica. \nLa modalidad híbrida permitirá la participación tanto presencial como virtual\, favoreciendo la inclusión de referentes de distintas sedes y unidades académicas. La elección del aula 10 de la Facultad de Turismo como espacio físico responde a criterios de accesibilidad y centralidad\, garantizando condiciones adecuadas para el desarrollo de la actividad. \nCon esta iniciativa\, la Universidad Nacional del Comahue reafirma su compromiso con la dignificación de las trayectorias educativas\, promoviendo una cultura institucional que reconoce la diversidad como valor y la accesibilidad como derecho. La formación continua de sus actores clave se convierte así en una herramienta estratégica para transformar el presente y proyectar un futuro universitario más justo\, plural y humano. \nInscripción y contacto: \nLa inscripción se realizará vía formulario electrónico en el siguiente enlace: https://forms.gle/pyNaEomQLEqnmqzJ6 \nCONSULTAS:  formacionaccesibilidad@gmail.com / Buenos Aires Nº 1400 – CP Q8300 HGV – Neuquén Capital. Tel: (0299) 4490300 Int. 406 – Fax: (0299) 4432086 E-mail: accesibilidad@central.uncoma.edu.ar \n 
URL:https://uncoma.edu.ar/evento/unco-fortalece-la-inclusion-academica-curso-intensivo-sobre-produccion-de-material-accesible/
CATEGORIES:Evento
ATTACH;FMTTYPE=image/jpeg:https://uncoma.edu.ar/wp-content/uploads/2025/10/Accesi.jpg
END:VEVENT
BEGIN:VEVENT
DTSTART;TZID=America/Argentina/Buenos_Aires:20251124T080000
DTEND;TZID=America/Argentina/Buenos_Aires:20251125T170000
DTSTAMP:20260422T213328
CREATED:20251027T151232Z
LAST-MODIFIED:20251027T151753Z
UID:10003096-1763971200-1764090000@uncoma.edu.ar
SUMMARY:Salvar al delfín de Lahille: la UNCo se suma al llamado internacional por su conservación
DESCRIPTION:La Universidad Nacional del Comahue acompaña y celebra la realización de la Sesión Abierta del Workshop para la Conservación del Delfín de Lahille\, un encuentro internacional que tendrá lugar el martes 25 y 26 de noviembre en la Ciudad de Buenos Aires. Organizado por la Fundación Azara\, en articulación con el Zoológico de Nuremberg\, YAQU PACHA y la Fundación Mundo Marino\, el encuentro convoca a especialistas\, autoridades\, organizaciones y comunidades comprometidas con la protección de una de las subespecies de delfines más amenazadas del planeta. \nCon menos de 500 individuos registrados en toda su distribución y una situación crítica en aguas argentinas\, el delfín de Lahille (Pontoporia blainvillei) se ha convertido en símbolo de los desafíos urgentes que enfrenta la conservación marina en el Cono Sur. En este contexto\, el workshop busca impulsar una hoja de ruta nacional en el marco del Plan de Manejo para la Conservación (CMP) de la Comisión Ballenera Internacional\, integrando saberes científicos\, políticas públicas y acciones territoriales. \nCiencia\, territorio y compromiso: una sesión abierta al diálogo \nDurante la jornada\, se presentarán los avances más recientes en investigación sobre la especie\, estrategias de manejo adaptativo\, experiencias locales de conservación y la implementación del Enfoque de un Solo Plan (One Plan Approach) promovido por la Unión Internacional para la Conservación de la Naturaleza (UICN). Esta perspectiva propone articular esfuerzos in situ —en el hábitat natural— y ex situ —en centros de investigación y conservación— para fortalecer la viabilidad poblacional del delfín de Lahille. \nLa sesión abierta permitirá el intercambio entre investigadores\, representantes del sector pesquero y turístico\, autoridades ambientales\, organizaciones no gubernamentales y socios internacionales\, en un espacio de construcción colectiva orientado a la acción. La participación de universidades públicas como la UNCo resulta clave para garantizar la producción de conocimiento situado\, el diálogo interdisciplinario y el compromiso institucional con la biodiversidad regional. \nUna muestra fotográfica para cerrar con memoria y sensibilidad \nAl finalizar las exposiciones\, se presentará una muestra fotográfica digital que recorre los sitios de investigación\, hábitats costeros y comunidades locales vinculadas a la conservación del delfín de Lahille en Argentina. Esta propuesta visual busca sensibilizar al público sobre la riqueza natural del litoral atlántico y la urgencia de proteger sus especies emblemáticas. \nDesde la Universidad Nacional del Comahue\, el acompañamiento a esta iniciativa reafirma el compromiso con la educación ambiental\, la investigación aplicada y la defensa de los ecosistemas patagónicos y marinos. En tiempos de crisis ecológica global\, la conservación del delfín de Lahille no es solo una causa científica: es una apuesta ética por el futuro compartido entre humanidad y naturaleza. – Informes e inscripción: https://fundacionazara.org.ar/workshop-delfin-lahille/ \n  \n 
URL:https://uncoma.edu.ar/evento/salvar-al-delfin-de-lahille-la-unco-se-suma-al-llamado-internacional-por-su-conservacion/
CATEGORIES:Congreso
ATTACH;FMTTYPE=image/jpeg:https://uncoma.edu.ar/wp-content/uploads/2025/10/9fed469c-2825-46b4-ade3-cb822cb27e6f.jpg
END:VEVENT
END:VCALENDAR