BEGIN:VCALENDAR
VERSION:2.0
PRODID:-//Universidad Nacional del Comahue - ECPv6.11.2//NONSGML v1.0//EN
CALSCALE:GREGORIAN
METHOD:PUBLISH
X-WR-CALNAME:Universidad Nacional del Comahue
X-ORIGINAL-URL:https://uncoma.edu.ar
X-WR-CALDESC:Eventos para Universidad Nacional del Comahue
REFRESH-INTERVAL;VALUE=DURATION:PT1H
X-Robots-Tag:noindex
X-PUBLISHED-TTL:PT1H
BEGIN:VTIMEZONE
TZID:America/Argentina/Buenos_Aires
BEGIN:STANDARD
TZOFFSETFROM:-0300
TZOFFSETTO:-0300
TZNAME:-03
DTSTART:20250101T000000
END:STANDARD
END:VTIMEZONE
BEGIN:VEVENT
DTSTART;TZID=America/Argentina/Buenos_Aires:20250603T080000
DTEND;TZID=America/Argentina/Buenos_Aires:20251113T170000
DTSTAMP:20260422T213327
CREATED:20250603T115524Z
LAST-MODIFIED:20250603T122604Z
UID:10002998-1748937600-1763053200@uncoma.edu.ar
SUMMARY:Jornadas binacionales de divulgación en investigación y extensión en Agronomía
DESCRIPTION:La Facultad de Ciencias Agrarias de la Universidad Nacional del Comahue (UNCo)\, en conjunto con la Facultad de Recursos Naturales\, Departamento de Ciencias Agropecuarias y Acuícolas de la Universidad Católica de Temuco\, llevarán adelante las I Jornadas Binacionales de Divulgación en Investigación y Extensión en Agronomía y VII Jornadas de Divulgación de Investigación y Extensión de la Facultad de Ciencias Agrarias – UNCo.\n\nLas jornadas se desarrollarán los días 11\,12 y 13 de noviembre de 2025\, en el predio de la Facultad de Ciencias Agrarias\, Cinco Saltos\, provincia de Río Negro\, Argentina.\n\n\n\nEl acceso al evento será con entrada libre y gratuita.
URL:https://uncoma.edu.ar/evento/jornadas-binacionales-de-divulgacion-en-investigacion-y-extension-en-agronomia/
CATEGORIES:Jornadas
ATTACH;FMTTYPE=image/jpeg:https://uncoma.edu.ar/wp-content/uploads/2025/06/jornadas.jpg
END:VEVENT
BEGIN:VEVENT
DTSTART;TZID=America/Argentina/Buenos_Aires:20250901T080000
DTEND;TZID=America/Argentina/Buenos_Aires:20251127T170000
DTSTAMP:20260422T213327
CREATED:20250829T091158Z
LAST-MODIFIED:20250829T091158Z
UID:10003032-1756713600-1764262800@uncoma.edu.ar
SUMMARY:Justicia al alcance de todos: la UNCo fortalece el acceso legal con asesorías gratuitas en FADECS
DESCRIPTION:La Universidad Nacional del Comahue\, a través de la Facultad de Derecho y Ciencias Sociales (FADECS)\, reafirma su compromiso con la comunidad mediante un ciclo de Asesorías Jurídicas Gratuitas que se desarrollará durante el segundo semestre de 2025 en General Roca. Esta iniciativa\, que articula formación académica\, responsabilidad social y servicio público\, busca acercar el conocimiento jurídico a quienes más lo necesitan\, sin barreras económicas ni burocráticas. \nLas asesorías se llevarán a cabo en la Casita 1 de FADECS\, ubicada en la intersección de Mendoza y Perú\, en el corazón de General Roca. El espacio\, acondicionado para recibir consultas de manera confidencial y personalizada\, se convierte en un punto de encuentro entre estudiantes avanzados de la carrera de abogacía\, docentes especializados y vecinos que requieren orientación legal. \nEl cronograma previsto incluye seis encuentros\, todos en horario de 14 a 16 horas: \n📅 18 de septiembre \n📅 2 de octubre \n📅 16 de octubre \n📅 30 de octubre \n📅 6 de noviembre \n📅 20 de noviembre \nDurante estas jornadas\, se brindará asesoramiento en temas civiles\, laborales\, familiares y administrativos\, entre otros. Las consultas son gratuitas y no requieren inscripción previa\, lo que facilita el acceso directo a quienes enfrentan situaciones legales cotidianas y necesitan una guía confiable. \nDesde la FADECS destacan que esta propuesta no solo fortalece el vínculo entre la universidad y la comunidad\, sino que también representa una instancia formativa clave para los futuros profesionales del derecho. “Las asesorías permiten que nuestros estudiantes se enfrenten a casos reales\, desarrollen habilidades de escucha\, análisis y argumentación\, y comprendan el valor social de su rol como juristas”\, señalaron desde la coordinación del proyecto. \nLa iniciativa se enmarca en las políticas de extensión universitaria de la UNCo\, que promueven la democratización del conocimiento y el compromiso activo con los territorios. En tiempos donde el acceso a la justicia se vuelve un derecho cada vez más urgente\, la universidad pública se posiciona como aliada estratégica en la construcción de ciudadanía\, equidad y confianza institucional. \nCon esta propuesta\, la UNCo no solo abre sus puertas: las convierte en puentes. Porque el derecho\, cuando se comparte\, transforma. \nPara sacar turnos\, hay que solicitarlo al correo: asesoriasjuridicasgralroca@gmail.com – Solo se atiende con turno previo.
URL:https://uncoma.edu.ar/evento/justicia-al-alcance-de-todos-la-unco-fortalece-el-acceso-legal-con-asesorias-gratuitas-en-fadecs/
CATEGORIES:Charla
ATTACH;FMTTYPE=image/webp:https://uncoma.edu.ar/wp-content/uploads/2025/08/WhatsApp-Image-2023-08-15-at-16.16.35.webp
END:VEVENT
BEGIN:VEVENT
DTSTART;TZID=America/Argentina/Buenos_Aires:20251107T090000
DTEND;TZID=America/Argentina/Buenos_Aires:20251205T123000
DTSTAMP:20260422T213327
CREATED:20251007T172212Z
LAST-MODIFIED:20251008T165527Z
UID:10003078-1762506000-1764937800@uncoma.edu.ar
SUMMARY:UNCo fortalece la inclusión académica: curso intensivo sobre producción de material accesible
DESCRIPTION:En el marco de su compromiso institucional con la accesibilidad y la equidad educativa\, la Universidad Nacional del Comahue (UNCo) anuncia una nueva instancia formativa destinada a docentes\, no-docentes\, tutores pares y referentes de accesibilidad. Se trata del curso-taller intensivo “Introducción a la Producción de Material Académico Accesible”\, que se desarrollará el viernes 7 de noviembre de 2025\, de 9:00 a 12:00 hs\, en modalidad híbrida desde el aula 10 de la Facultad de Turismo\, sede central de la UNCo en Neuquén capital. \nLa actividad forma parte del módulo “TIC’s y Trayectorias Académicas” y se inscribe en el “Ciclo de capacitación\, formación y acompañamiento permanente para Tutores/as Pares de Accesibilidad 2025”\, impulsado por la Comisión Universitaria sobre Accesibilidad al Medio Físico y Social y la Facultad de Turismo de la UNCo. \nCon una duración de tres horas reloj\, el curso propone un abordaje intensivo sobre la producción de materiales académicos accesibles\, entendiendo la accesibilidad como un principio transversal que debe atravesar las prácticas pedagógicas\, administrativas y comunicacionales de la universidad. Desde una perspectiva de la discapacidad anclada en los derechos humanos\, se busca brindar herramientas concretas que permitan fortalecer los sistemas de apoyo a las trayectorias universitarias. \nLa propuesta está dirigida a quienes desempeñan funciones clave en el acompañamiento de estudiantes con discapacidad: tutores pares\, docentes\, personal administrativo y referentes de accesibilidad de todas las unidades académicas de la UNCo. El objetivo general es promover un trayecto formativo que contribuya a la construcción de entornos académicos más inclusivos\, donde el acceso al conocimiento no dependa de barreras físicas\, tecnológicas o simbólicas. \nEntre los objetivos específicos se destacan la entrega de recursos técnicos para la elaboración de materiales accesibles\, la proyección del ciclo de formación para tutores pares durante todo el 2025\, y el fortalecimiento de las capacidades institucionales de la UNCo en materia de accesibilidad académica. \nLa modalidad híbrida permitirá la participación tanto presencial como virtual\, favoreciendo la inclusión de referentes de distintas sedes y unidades académicas. La elección del aula 10 de la Facultad de Turismo como espacio físico responde a criterios de accesibilidad y centralidad\, garantizando condiciones adecuadas para el desarrollo de la actividad. \nCon esta iniciativa\, la Universidad Nacional del Comahue reafirma su compromiso con la dignificación de las trayectorias educativas\, promoviendo una cultura institucional que reconoce la diversidad como valor y la accesibilidad como derecho. La formación continua de sus actores clave se convierte así en una herramienta estratégica para transformar el presente y proyectar un futuro universitario más justo\, plural y humano. \nInscripción y contacto: \nLa inscripción se realizará vía formulario electrónico en el siguiente enlace: https://forms.gle/pyNaEomQLEqnmqzJ6 \nCONSULTAS:  formacionaccesibilidad@gmail.com / Buenos Aires Nº 1400 – CP Q8300 HGV – Neuquén Capital. Tel: (0299) 4490300 Int. 406 – Fax: (0299) 4432086 E-mail: accesibilidad@central.uncoma.edu.ar \n 
URL:https://uncoma.edu.ar/evento/unco-fortalece-la-inclusion-academica-curso-intensivo-sobre-produccion-de-material-accesible/
CATEGORIES:Evento
ATTACH;FMTTYPE=image/jpeg:https://uncoma.edu.ar/wp-content/uploads/2025/10/Accesi.jpg
END:VEVENT
BEGIN:VEVENT
DTSTART;TZID=America/Argentina/Buenos_Aires:20251111T080000
DTEND;TZID=America/Argentina/Buenos_Aires:20251113T170000
DTSTAMP:20260422T213327
CREATED:20250917T213049Z
LAST-MODIFIED:20250917T213049Z
UID:10003052-1762848000-1763053200@uncoma.edu.ar
SUMMARY:Agronomía sin fronteras: la UNCo convoca al diálogo binacional sobre investigación y extensión
DESCRIPTION:La Facultad de Ciencias Agrarias de la Universidad Nacional del Comahue (UNCo) será anfitriona de un evento académico de relevancia internacional: las I Jornadas Binacionales de Divulgación en Investigación y Extensión en Agronomía 2025\, que se desarrollarán del 11 al 13 de noviembre en la ciudad de Cinco Saltos\, Río Negro. Con entrada libre y gratuita\, y previa inscripción\, esta propuesta se presenta como un espacio de encuentro\, reflexión y construcción colectiva entre actores clave del ámbito agronómico. \nDocentes\, investigadores de grado y posgrado\, graduados y estudiantes de las Ciencias Agrarias están convocados a participar de tres jornadas intensas en las que se compartirán avances científicos\, experiencias de extensión territorial y estrategias de articulación entre universidad y comunidad. El carácter binacional del evento refuerza la vocación integradora de la UNCo\, que abre sus puertas al intercambio con instituciones y profesionales de países vecinos\, promoviendo una mirada regional sobre los desafíos del sector. \nLa iniciativa busca visibilizar el trabajo académico que se realiza en el campo de la agronomía\, tanto en investigación como en extensión\, y fomentar el diálogo entre quienes producen conocimiento y quienes lo aplican en territorio. En ese sentido\, las jornadas no solo serán un espacio para la exposición de proyectos\, sino también para el debate sobre políticas públicas\, innovación tecnológica\, sostenibilidad y formación profesional. \nCinco Saltos se convierte así en epicentro de una conversación que trasciende fronteras\, donde la universidad pública reafirma su rol como motor de desarrollo y transformación social. La UNCo\, con esta propuesta\, consolida su compromiso con la divulgación científica y el fortalecimiento de redes académicas que vinculan saberes\, territorios y personas. \nPara consultas e inscripciones\, se ha habilitado el correo jornadasagrariasunco@gmail.com. La invitación está hecha: tres días para pensar\, compartir y proyectar el futuro de la agronomía desde una perspectiva colaborativa y latinoamericana. \n 
URL:https://uncoma.edu.ar/evento/agronomia-sin-fronteras-la-unco-convoca-al-dialogo-binacional-sobre-investigacion-y-extension/
CATEGORIES:Charla
ATTACH;FMTTYPE=image/png:https://uncoma.edu.ar/wp-content/uploads/2025/09/Fecha-limite-para-envio-de-resumenes-2-768x960-1.png
END:VEVENT
BEGIN:VEVENT
DTSTART;TZID=America/Argentina/Buenos_Aires:20251112T190000
DTEND;TZID=America/Argentina/Buenos_Aires:20251112T210000
DTSTAMP:20260422T213327
CREATED:20251110T114135Z
LAST-MODIFIED:20251110T114248Z
UID:10003109-1762974000-1762981200@uncoma.edu.ar
SUMMARY:La UNCo abre un espacio para pensar la memoria: presentación del libro Locuras y suicidio en las cárceles de la dictadura en San Martín de los Andes
DESCRIPTION:El próximo miércoles 12 de noviembre a las 19:30 horas\, el Centro Regional Universitario San Martín de los Andes (CRUSMA) de la Universidad Nacional del Comahue (UNCo) será sede de una actividad que invita a reflexionar sobre los efectos más silenciados del terrorismo de Estado en Argentina. En el Aula Magna del CRUSMA (Pasaje de la Paz 235)\, se presentará el libro Locuras y suicidio en las cárceles de la dictadura\, escrito por las periodistas Silvana Melo y Claudia Rafael. \nLa obra propone una mirada profunda y necesaria sobre las consecuencias psíquicas\, emocionales y existenciales que vivieron las personas privadas de libertad durante la última dictadura militar. A través de testimonios\, reconstrucciones y análisis\, las autoras abordan el impacto del encierro\, la tortura y el aislamiento en la salud mental de quienes fueron perseguidos por razones políticas\, ideológicas o sociales. \nEscritura como acto de memoria y reparación \nLa presentación del libro se enmarca en el compromiso de la UNCo con la defensa de los Derechos Humanos\, la construcción de memoria colectiva y la promoción de espacios de pensamiento crítico. En este sentido\, el CRUSMA se consolida como un nodo territorial de la universidad pública que articula saberes académicos\, experiencias comunitarias y debates urgentes sobre el pasado reciente. \nLocuras y suicidio en las cárceles de la dictadura no solo recupera historias individuales\, sino que interpela al presente desde una perspectiva ética y política. Las autoras\, con una trayectoria reconocida en el periodismo comprometido\, construyen un relato que desafía el olvido y habilita nuevas formas de comprender el daño estructural que produjo el aparato represivo estatal. \nUniversidad pública\, territorio y memoria \nLa actividad está dirigida a estudiantes\, docentes\, investigadores y a toda la comunidad interesada en profundizar el conocimiento sobre los efectos de la violencia institucional y las formas de resistencia que emergieron en contextos extremos. La presentación será también una oportunidad para dialogar sobre el rol de la escritura\, el periodismo y la investigación en la construcción de justicia simbólica y reparación histórica.
URL:https://uncoma.edu.ar/evento/la-unco-abre-un-espacio-para-pensar-la-memoria-presentacion-del-libro-locuras-y-suicidio-en-las-carceles-de-la-dictadura-en-san-martin-de-los-andes/
CATEGORIES:Charla
ATTACH;FMTTYPE=image/jpeg:https://uncoma.edu.ar/wp-content/uploads/2025/11/576874930_1232881355526865_5528928238610702551_n.jpg
END:VEVENT
END:VCALENDAR